BEGIN:VCALENDAR
VERSION:2.0
PRODID:-//The Western United States Pipe Band Association - ECPv6.15.20//NONSGML v1.0//EN
CALSCALE:GREGORIAN
METHOD:PUBLISH
X-WR-CALNAME:The Western United States Pipe Band Association
X-ORIGINAL-URL:https://wuspba.org
X-WR-CALDESC:Events for The Western United States Pipe Band Association
REFRESH-INTERVAL;VALUE=DURATION:PT1H
X-Robots-Tag:noindex
X-PUBLISHED-TTL:PT1H
BEGIN:VTIMEZONE
TZID:America/Denver
BEGIN:DAYLIGHT
TZOFFSETFROM:-0700
TZOFFSETTO:-0600
TZNAME:MDT
DTSTART:20240310T090000
END:DAYLIGHT
BEGIN:STANDARD
TZOFFSETFROM:-0600
TZOFFSETTO:-0700
TZNAME:MST
DTSTART:20241103T080000
END:STANDARD
BEGIN:DAYLIGHT
TZOFFSETFROM:-0700
TZOFFSETTO:-0600
TZNAME:MDT
DTSTART:20250309T090000
END:DAYLIGHT
BEGIN:STANDARD
TZOFFSETFROM:-0600
TZOFFSETTO:-0700
TZNAME:MST
DTSTART:20251102T080000
END:STANDARD
BEGIN:DAYLIGHT
TZOFFSETFROM:-0700
TZOFFSETTO:-0600
TZNAME:MDT
DTSTART:20260308T090000
END:DAYLIGHT
BEGIN:STANDARD
TZOFFSETFROM:-0600
TZOFFSETTO:-0700
TZNAME:MST
DTSTART:20261101T080000
END:STANDARD
END:VTIMEZONE
BEGIN:VEVENT
DTSTART;TZID=America/Denver:20251031T080000
DTEND;TZID=America/Denver:20251101T170000
DTSTAMP:20260421T110557
CREATED:20250107T031208Z
LAST-MODIFIED:20250128T023301Z
UID:12233-1761897600-1762016400@wuspba.org
SUMMARY:2025 Western States Champion Solo Invitational
DESCRIPTION:October 31-November 1\, 2025\nWestern States Champion Solo Invitational\nSouthern California (location pending)\nwuspba.org \nJeffrey M Mann\nmannjeff@outlook.com\n(801) 554-8989
URL:https://wuspba.org/event/2025-western-states-champion-solo-invitational-sanctioning-pending/
END:VEVENT
BEGIN:VEVENT
DTSTART;TZID=America/Denver:20251101T080000
DTEND;TZID=America/Denver:20251102T170000
DTSTAMP:20260421T110557
CREATED:20250916T201748Z
LAST-MODIFIED:20250916T201802Z
UID:12737-1761984000-1762102800@wuspba.org
SUMMARY:2025 Yosemite Celtic Festival
DESCRIPTION:November 1 - 2\, 2025\nYosemite Celtic Festival\nOakhurst Community Center\n39800 Rd 425B\, Oakhurst\, CA 93644\nKimberly Vaughan Enterprises\, LLC \nwww.YosemiteCelticFestival.com \nhttps://www.r2sports.com/tourney/home.asp?TID=50983 \nKimberly Vaughan\nkimberly@yosemitecelticfestival.com
URL:https://wuspba.org/event/2025-yosemite-celtic-festival/
END:VEVENT
END:VCALENDAR