BEGIN:VCALENDAR
VERSION:2.0
PRODID:-//The Western United States Pipe Band Association - ECPv6.15.20//NONSGML v1.0//EN
CALSCALE:GREGORIAN
METHOD:PUBLISH
X-ORIGINAL-URL:https://wuspba.org
X-WR-CALDESC:Events for The Western United States Pipe Band Association
REFRESH-INTERVAL;VALUE=DURATION:PT1H
X-Robots-Tag:noindex
X-PUBLISHED-TTL:PT1H
BEGIN:VTIMEZONE
TZID:America/Denver
BEGIN:DAYLIGHT
TZOFFSETFROM:-0700
TZOFFSETTO:-0600
TZNAME:MDT
DTSTART:20250309T090000
END:DAYLIGHT
BEGIN:STANDARD
TZOFFSETFROM:-0600
TZOFFSETTO:-0700
TZNAME:MST
DTSTART:20251102T080000
END:STANDARD
BEGIN:DAYLIGHT
TZOFFSETFROM:-0700
TZOFFSETTO:-0600
TZNAME:MDT
DTSTART:20260308T090000
END:DAYLIGHT
BEGIN:STANDARD
TZOFFSETFROM:-0600
TZOFFSETTO:-0700
TZNAME:MST
DTSTART:20261101T080000
END:STANDARD
BEGIN:DAYLIGHT
TZOFFSETFROM:-0700
TZOFFSETTO:-0600
TZNAME:MDT
DTSTART:20270314T090000
END:DAYLIGHT
BEGIN:STANDARD
TZOFFSETFROM:-0600
TZOFFSETTO:-0700
TZNAME:MST
DTSTART:20271107T080000
END:STANDARD
END:VTIMEZONE
BEGIN:VEVENT
DTSTART;VALUE=DATE:20260418
DTEND;VALUE=DATE:20260419
DTSTAMP:20260421T034540
CREATED:20260310T021316Z
LAST-MODIFIED:20260310T021415Z
UID:13034-1776470400-1776556799@wuspba.org
SUMMARY:2026 Intermountain Indoor Solo Competition - Sanctioned
DESCRIPTION:Intermountain Indoor Solo Competition - Sanctioned\nGoat Patch Brewing Company – Monument\n1756 Lake Woodmoor Dr\, Monument\, CO 80132 \nIntermountain Branch \nAndra Stoller\nandra.stoller@gmail.com \nhttps://www.r2sports.com/tourney/home.asp?TID=53458
URL:https://wuspba.org/event/2026-intermountain-indoor-solo-competition-sanctioned/
END:VEVENT
BEGIN:VEVENT
DTSTART;TZID=America/Denver:20260418T080000
DTEND;TZID=America/Denver:20260419T170000
DTSTAMP:20260421T034540
CREATED:20260117T185728Z
LAST-MODIFIED:20260117T185728Z
UID:12980-1776499200-1776618000@wuspba.org
SUMMARY:2026 Las Vegas Highland Games sanctioned
DESCRIPTION:Las Vegas Highland Games \nCraig Ranch Regional Park\n625 W Craig Road\, North Las Vegas\, NV 89032 \nLas Vegas Celtic Society\nwww.lasvegascelticsociety.org \nJames Buggie\npiping@lasvegascelticsociety.org \nhttps://www.r2sports.com/tourney/home.asp?TID=52496
URL:https://wuspba.org/event/2026-las-vegas-highland-games-sanctioned/
END:VEVENT
END:VCALENDAR