BEGIN:VCALENDAR
VERSION:2.0
PRODID:-//The Western United States Pipe Band Association - ECPv6.15.20//NONSGML v1.0//EN
CALSCALE:GREGORIAN
METHOD:PUBLISH
X-WR-CALNAME:The Western United States Pipe Band Association
X-ORIGINAL-URL:https://wuspba.org
X-WR-CALDESC:Events for The Western United States Pipe Band Association
REFRESH-INTERVAL;VALUE=DURATION:PT1H
X-Robots-Tag:noindex
X-PUBLISHED-TTL:PT1H
BEGIN:VTIMEZONE
TZID:America/Denver
BEGIN:DAYLIGHT
TZOFFSETFROM:-0700
TZOFFSETTO:-0600
TZNAME:MDT
DTSTART:20200308T090000
END:DAYLIGHT
BEGIN:STANDARD
TZOFFSETFROM:-0600
TZOFFSETTO:-0700
TZNAME:MST
DTSTART:20201101T080000
END:STANDARD
BEGIN:DAYLIGHT
TZOFFSETFROM:-0700
TZOFFSETTO:-0600
TZNAME:MDT
DTSTART:20210314T090000
END:DAYLIGHT
BEGIN:STANDARD
TZOFFSETFROM:-0600
TZOFFSETTO:-0700
TZNAME:MST
DTSTART:20211107T080000
END:STANDARD
BEGIN:DAYLIGHT
TZOFFSETFROM:-0700
TZOFFSETTO:-0600
TZNAME:MDT
DTSTART:20220313T090000
END:DAYLIGHT
BEGIN:STANDARD
TZOFFSETFROM:-0600
TZOFFSETTO:-0700
TZNAME:MST
DTSTART:20221106T080000
END:STANDARD
END:VTIMEZONE
BEGIN:VTIMEZONE
TZID:America/Los_Angeles
BEGIN:DAYLIGHT
TZOFFSETFROM:-0800
TZOFFSETTO:-0700
TZNAME:PDT
DTSTART:20200308T100000
END:DAYLIGHT
BEGIN:STANDARD
TZOFFSETFROM:-0700
TZOFFSETTO:-0800
TZNAME:PST
DTSTART:20201101T090000
END:STANDARD
BEGIN:DAYLIGHT
TZOFFSETFROM:-0800
TZOFFSETTO:-0700
TZNAME:PDT
DTSTART:20210314T100000
END:DAYLIGHT
BEGIN:STANDARD
TZOFFSETFROM:-0700
TZOFFSETTO:-0800
TZNAME:PST
DTSTART:20211107T090000
END:STANDARD
BEGIN:DAYLIGHT
TZOFFSETFROM:-0800
TZOFFSETTO:-0700
TZNAME:PDT
DTSTART:20220313T100000
END:DAYLIGHT
BEGIN:STANDARD
TZOFFSETFROM:-0700
TZOFFSETTO:-0800
TZNAME:PST
DTSTART:20221106T090000
END:STANDARD
END:VTIMEZONE
BEGIN:VEVENT
DTSTART;VALUE=DATE:20210709
DTEND;VALUE=DATE:20210711
DTSTAMP:20260422T160628
CREATED:20210401T214925Z
LAST-MODIFIED:20210612T144757Z
UID:8468-1625788800-1625961599@wuspba.org
SUMMARY:Payson Scottish Festival - SANCTIONED
DESCRIPTION:http://paysonscottishfestival.org/\n\nPiping and Drumming \nOut of WUSPBA association bands and soloists\, please contact Jeff Mann for instructions on using the online registration system. (mannjeff@outlook.com) \nTo Register: \nhttps://www.r2sports.com/tourney.asp?TID=37463 \n   \nSolo Events: \nFriday: 5:00 p.m. – 8:00 p.m. \nPiping Events: \n\nGrade 4 – Piobaireachd at the Payson Memorial Park\nGrade 3 – Piobaireachd at the Payson Memorial Park\nGrade 2 – Piobaireachd at the Payson Memorial Park\nGrade 1 – Piobaireachd at the Payson Memorial Park\n\n  \nSaturday:  8:00 a.m. – 5:00 p.m. \nPiping Events: \n\nGrade 4 – 2/4 March\, 6/8 March\, Slow March\nGrade 3 – 2/4 March\, Strathspey/Reel\, Jig\nGrade 2 – MSR\, Hornpipe/Jig\, 6/8 March\nGrade 1 – MSR\, Hornpipe/Jig\, 6/8 March\nPractice Chanter  \n\n Drumming Events: \n\nSnare Grade 4 – 2/4 March\, 6/8 March\nSnare Grade 3 – 2/4 March\, Strathspey/Reel\, 6/8 March\nSnare Grade 2 – MSR\, Hornpipe/Jig\nSnare Grade 1 – MSR\, Hornpipe/Jig\nTenor Novice – 2/4 March\, 6/8 March\nTenor Intermediate – MSR\nBass Novice – 2/4 March\nBass Intermediate – MSR\nDrum Pad\n\n  \nBand Events: \nSaturday 1st round: \n\nGrade 5 – March\, Slow March\, March\nGrade 4 – MSR\nGrade 3 – Time Limit Medley\nGrade 2 – MSR\n\nSaturday 2nd round: \n\nGrade 5 – Quick March Medley\nGrade 4 – Time Limit Medley\nGrade 3 – MSR\nGrade 2 – Medley\n\n  \nBands will need to report for opening ceremonies at 11:45am on Saturday. There will be closing ceremonies at the usual time; specific time is TBD. \nFor additional information contact Kariann Hibbard\, Kariann.hibbard@gmail.com \nTo Register: https://www.r2sports.com/tourney.asp?TID=37463
URL:https://wuspba.org/event/payson-scottish-festival-sanctioned/
LOCATION:Payson Memorial Park 300 South Main Street Payson\, Utah 84651\, 300 South Main Street\, Payson\, UT\, 84651\, United States
END:VEVENT
BEGIN:VEVENT
DTSTART;TZID=America/Denver:20210630T190000
DTEND;TZID=America/Denver:20210630T200000
DTSTAMP:20260422T160628
CREATED:20210126T191520Z
LAST-MODIFIED:20210126T191520Z
UID:8012-1625079600-1625083200@wuspba.org
SUMMARY:In the Zoom Where It Happens - NorCal Education Event
DESCRIPTION:The NorCal branch is offering education events\, once a month on Wednesday evenings (see all events). Each session will begin with reminders about upcoming events and contests\, discuss online resources\, cover a tune and then just hang out to discuss something fun in the world of piping and drumming. \nTo start\, the focus will be on WUSPBA’s list of Recommended Piobaireachd for Grade 4 pipers. The featured presenters include piping instructors\, adjudicators\, and professional competitors from throughout WUSPBA.  Drummers are welcome to join as well\, and something specific for drummers will be planned for later in the year. \nWednesday\, 6/30/2021\, 7pm\, Justin Celek\, Lament for the Old Sword \nTo participate in any of the scheduled sessions above\, no registration is necessary.  Just join the Zoom meeting at the appointed time using the below link or logon information: \nhttps://zoom.us/j/97355020849?pwd=OHNnSGZjQnE4bklQeVVvcitDYWRDZz09 \nMeeting ID: 973 5502 0849\nPasscode: 197472
URL:https://wuspba.org/event/in-the-zoom-where-it-happens-norcal-education-event-2-2-2-2-2/
LOCATION:AZ
CATEGORIES:Northern Branch
END:VEVENT
BEGIN:VEVENT
DTSTART;VALUE=DATE:20210612
DTEND;VALUE=DATE:20210613
DTSTAMP:20260422T160628
CREATED:20210401T215318Z
LAST-MODIFIED:20210425T192428Z
UID:8475-1623456000-1623542399@wuspba.org
SUMMARY:Pipes and Pubs #2 - SANCTIONED
DESCRIPTION:Registration details: \nhttps://www.r2sports.com/tourney/home.asp?TID=37475 \n  \n 
URL:https://wuspba.org/event/pipes-and-pubs-2-sanctioned/
LOCATION:AZ
END:VEVENT
BEGIN:VEVENT
DTSTART;TZID=America/Denver:20210526T190000
DTEND;TZID=America/Denver:20210526T200000
DTSTAMP:20260422T160628
CREATED:20210126T191400Z
LAST-MODIFIED:20210126T191400Z
UID:8010-1622055600-1622059200@wuspba.org
SUMMARY:In the Zoom Where It Happens - NorCal Education Event
DESCRIPTION:The NorCal branch is offering education events\, once a month on Wednesday evenings (see all events). Each session will begin with reminders about upcoming events and contests\, discuss online resources\, cover a tune and then just hang out to discuss something fun in the world of piping and drumming. \nTo start\, the focus will be on WUSPBA’s list of Recommended Piobaireachd for Grade 4 pipers. The featured presenters include piping instructors\, adjudicators\, and professional competitors from throughout WUSPBA.  Drummers are welcome to join as well\, and something specific for drummers will be planned for later in the year. \nWednesday\, 5/26/2021\, 7pm\, Ken Sutherland\, The Company's Lament \nTo participate in any of the scheduled sessions above\, no registration is necessary.  Just join the Zoom meeting at the appointed time using the below link or logon information: \nhttps://zoom.us/j/97355020849?pwd=OHNnSGZjQnE4bklQeVVvcitDYWRDZz09 \nMeeting ID: 973 5502 0849\nPasscode: 197472
URL:https://wuspba.org/event/in-the-zoom-where-it-happens-norcal-education-event-2-2-2-2/
LOCATION:AZ
CATEGORIES:Northern Branch
END:VEVENT
BEGIN:VEVENT
DTSTART;VALUE=DATE:20210515
DTEND;VALUE=DATE:20210517
DTSTAMP:20260422T160628
CREATED:20210401T215041Z
LAST-MODIFIED:20210401T222210Z
UID:8470-1621036800-1621209599@wuspba.org
SUMMARY:Grand Valley Scottish Games and Celtic Festival - SANCTIONED
DESCRIPTION:https://www.rmsa.org/events/grand-valey-highland-games/
URL:https://wuspba.org/event/grand-valley-scottish-games-and-celtic-festival-sanctioned/
LOCATION:Grand Junction\, CO\, United States
END:VEVENT
BEGIN:VEVENT
DTSTART;VALUE=DATE:20210508
DTEND;VALUE=DATE:20210509
DTSTAMP:20260422T160628
CREATED:20210401T215249Z
LAST-MODIFIED:20210425T192314Z
UID:8473-1620432000-1620518399@wuspba.org
SUMMARY:Pipes and Pubs #1 - SANCTIONED
DESCRIPTION:Registration details: \nhttps://www.r2sports.com/tourney/home.asp?TID=37474 \n  \n 
URL:https://wuspba.org/event/pipes-and-pubs-1-sanctioned/
LOCATION:AZ
END:VEVENT
BEGIN:VEVENT
DTSTART;TZID=America/Denver:20210428T190000
DTEND;TZID=America/Denver:20210428T200000
DTSTAMP:20260422T160628
CREATED:20210126T191309Z
LAST-MODIFIED:20210126T191309Z
UID:8008-1619636400-1619640000@wuspba.org
SUMMARY:In the Zoom Where It Happens - NorCal Education Event
DESCRIPTION:The NorCal branch is offering education events\, once a month on Wednesday evenings (see all events). Each session will begin with reminders about upcoming events and contests\, discuss online resources\, cover a tune and then just hang out to discuss something fun in the world of piping and drumming. \nTo start\, the focus will be on WUSPBA’s list of Recommended Piobaireachd for Grade 4 pipers. The featured presenters include piping instructors\, adjudicators\, and professional competitors from throughout WUSPBA.  Drummers are welcome to join as well\, and something specific for drummers will be planned for later in the year. \nWednesday\, 4/28/2021\, 7pm\, Glen Thompson\, The Glen is Mine \nTo participate in any of the scheduled sessions above\, no registration is necessary.  Just join the Zoom meeting at the appointed time using the below link or logon information: \nhttps://zoom.us/j/97355020849?pwd=OHNnSGZjQnE4bklQeVVvcitDYWRDZz09 \nMeeting ID: 973 5502 0849\nPasscode: 197472
URL:https://wuspba.org/event/in-the-zoom-where-it-happens-norcal-education-event-2-2-2/
LOCATION:AZ
CATEGORIES:Northern Branch
END:VEVENT
BEGIN:VEVENT
DTSTART;TZID=America/Denver:20210424T080000
DTEND;TZID=America/Denver:20210424T170000
DTSTAMP:20260422T160628
CREATED:20210126T192406Z
LAST-MODIFIED:20210205T050510Z
UID:8021-1619251200-1619283600@wuspba.org
SUMMARY:NorCal Spring Online Solos - SANCTIONED
DESCRIPTION:NorCal Online Solos
URL:https://wuspba.org/event/norcal-winter-online-solos-sanctioned-2-2/
LOCATION:AZ
CATEGORIES:Northern Branch,Solo Contest
END:VEVENT
BEGIN:VEVENT
DTSTART;TZID=America/Denver:20210415T080000
DTEND;TZID=America/Denver:20210418T170000
DTSTAMP:20260422T160628
CREATED:20210328T015528Z
LAST-MODIFIED:20210401T214811Z
UID:8457-1618473600-1618765200@wuspba.org
SUMMARY:Rio Grande Valley Celtic Festival - SANCTIONED
DESCRIPTION:The Rio Grande Valley Celtic Festival on April 15th through the 18th\, 2021 is hosting a light music competition for piping and drumming soloists\, grades 4 through 1. There will be two events per grade. The competition will be judged by Aaron Shaw\, Jamie Cuthill\, Colin Armstrong and Ed Best.
URL:https://wuspba.org/event/rio-grande-valley-celtic-festival/
LOCATION:AZ
END:VEVENT
BEGIN:VEVENT
DTSTART;TZID=America/Denver:20210331T190000
DTEND;TZID=America/Denver:20210331T200000
DTSTAMP:20260422T160628
CREATED:20210126T191213Z
LAST-MODIFIED:20210126T191213Z
UID:8006-1617217200-1617220800@wuspba.org
SUMMARY:In the Zoom Where It Happens - NorCal Education Event
DESCRIPTION:The NorCal branch is offering education events\, once a month on Wednesday evenings (see all events). Each session will begin with reminders about upcoming events and contests\, discuss online resources\, cover a tune and then just hang out to discuss something fun in the world of piping and drumming. \nTo start\, the focus will be on WUSPBA’s list of Recommended Piobaireachd for Grade 4 pipers. The featured presenters include piping instructors\, adjudicators\, and professional competitors from throughout WUSPBA.  Drummers are welcome to join as well\, and something specific for drummers will be planned for later in the year. \nWednesday\, 3/31/2021\, 7pm\, Adam Blaine\, Lady Doyle's Salute \nTo participate in any of the scheduled sessions above\, no registration is necessary.  Just join the Zoom meeting at the appointed time using the below link or logon information: \nhttps://zoom.us/j/97355020849?pwd=OHNnSGZjQnE4bklQeVVvcitDYWRDZz09 \nMeeting ID: 973 5502 0849\nPasscode: 197472
URL:https://wuspba.org/event/in-the-zoom-where-it-happens-norcal-education-event-2-2/
LOCATION:AZ
CATEGORIES:Northern Branch
END:VEVENT
BEGIN:VEVENT
DTSTART;TZID=America/Denver:20210314T080000
DTEND;TZID=America/Denver:20210324T170000
DTSTAMP:20260422T160628
CREATED:20210304T031532Z
LAST-MODIFIED:20210313T170837Z
UID:8144-1615708800-1616605200@wuspba.org
SUMMARY:Desert Branch Online Games - SANCTIONED
DESCRIPTION:https://www.eventbrite.com/e/desert-branch-online-competition-march-14-24-2021-registration-136213334751 \nPlayers will submit one video per instrument for review and critique by judges. Submissions will be accepted from March 14-24\, 2021. Results will be announced March 31\, 2021. $20/entry.
URL:https://wuspba.org/event/desert-branch-online-games-sanctioned/
LOCATION:AZ
END:VEVENT
BEGIN:VEVENT
DTSTART;TZID=America/Denver:20210306T080000
DTEND;TZID=America/Denver:20210306T170000
DTSTAMP:20260422T160628
CREATED:20210126T192206Z
LAST-MODIFIED:20210126T192238Z
UID:8018-1615017600-1615050000@wuspba.org
SUMMARY:Redding Bagpipe Competition\, Online 2021 – SANCTIONED
DESCRIPTION:http://Reddingbagpipecompetition.com \n  \n  \nOnce an event is sanctioned\, the packet will be published with the event info \n\nSANCTIONING_FORMS_Redding Bagpipe Competition 21
URL:https://wuspba.org/event/norcal-winter-online-solos-sanctioned-2/
LOCATION:AZ
CATEGORIES:Northern Branch,Solo Contest
END:VEVENT
BEGIN:VEVENT
DTSTART;TZID=America/Denver:20210224T190000
DTEND;TZID=America/Denver:20210224T200000
DTSTAMP:20260422T160628
CREATED:20210126T190938Z
LAST-MODIFIED:20210126T190938Z
UID:8004-1614193200-1614196800@wuspba.org
SUMMARY:In the Zoom Where It Happens - NorCal Education Event
DESCRIPTION:The NorCal branch is offering education events\, once a month on Wednesday evenings (see all events). Each session will begin with reminders about upcoming events and contests\, discuss online resources\, cover a tune and then just hang out to discuss something fun in the world of piping and drumming. \nTo start\, the focus will be on WUSPBA’s list of Recommended Piobaireachd for Grade 4 pipers. The featured presenters include piping instructors\, adjudicators\, and professional competitors from throughout WUSPBA.  Drummers are welcome to join as well\, and something specific for drummers will be planned for later in the year. \nWednesday\, 2/24/2021\, 7pm\, Ryan Murray\, The Boat Tune \nTo participate in any of the scheduled sessions above\, no registration is necessary.  Just join the Zoom meeting at the appointed time using the below link or logon information: \nhttps://zoom.us/j/97355020849?pwd=OHNnSGZjQnE4bklQeVVvcitDYWRDZz09 \nMeeting ID: 973 5502 0849\nPasscode: 197472
URL:https://wuspba.org/event/in-the-zoom-where-it-happens-norcal-education-event-2/
LOCATION:AZ
CATEGORIES:Northern Branch
END:VEVENT
BEGIN:VEVENT
DTSTART;TZID=America/Denver:20210220T080000
DTEND;TZID=America/Denver:20210220T170000
DTSTAMP:20260422T160628
CREATED:20210126T192004Z
LAST-MODIFIED:20210126T192004Z
UID:8016-1613808000-1613840400@wuspba.org
SUMMARY:NorCal Winter Online Solos – SANCTIONED
DESCRIPTION:NorCal Online Solos \nEntries close February 13. \n  \nOnce an event is sanctioned\, the packet will be published with the event info \n\nSanctioningPacket_2021_NorCalWinterOnline
URL:https://wuspba.org/event/norcal-winter-online-solos-sanctioned/
LOCATION:AZ
CATEGORIES:Northern Branch,Solo Contest
END:VEVENT
BEGIN:VEVENT
DTSTART;TZID=America/Denver:20210127T190000
DTEND;TZID=America/Denver:20210127T200000
DTSTAMP:20260422T160628
CREATED:20210126T190707Z
LAST-MODIFIED:20210126T190707Z
UID:8001-1611774000-1611777600@wuspba.org
SUMMARY:In the Zoom Where It Happens - NorCal Education Event
DESCRIPTION:The NorCal branch is offering education events\, once a month on Wednesday evenings (see all events). Each session will begin with reminders about upcoming events and contests\, discuss online resources\, cover a tune and then just hang out to discuss something fun in the world of piping and drumming. \nTo start\, the focus will be on WUSPBA’s list of Recommended Piobaireachd for Grade 4 pipers. The featured presenters include piping instructors\, adjudicators\, and professional competitors from throughout WUSPBA.  Drummers are welcome to join as well\, and something specific for drummers will be planned for later in the year. \nWednesday\, 1/27/2021\, 7pm PST\, Rob Boyd\, Alasdair Dearg MacDonnell of Glengarry's Lament \nTo participate in any of the scheduled sessions above\, no registration is necessary.  Just join the Zoom meeting at the appointed time using the below link or logon information: \nhttps://zoom.us/j/97355020849?pwd=OHNnSGZjQnE4bklQeVVvcitDYWRDZz09 \nMeeting ID: 973 5502 0849\nPasscode: 197472
URL:https://wuspba.org/event/in-the-zoom-where-it-happens-norcal-education-event/
LOCATION:AZ
CATEGORIES:Northern Branch
END:VEVENT
END:VCALENDAR