BEGIN:VCALENDAR
VERSION:2.0
PRODID:-//The Western United States Pipe Band Association - ECPv6.15.20//NONSGML v1.0//EN
CALSCALE:GREGORIAN
METHOD:PUBLISH
X-WR-CALNAME:The Western United States Pipe Band Association
X-ORIGINAL-URL:https://wuspba.org
X-WR-CALDESC:Events for The Western United States Pipe Band Association
REFRESH-INTERVAL;VALUE=DURATION:PT1H
X-Robots-Tag:noindex
X-PUBLISHED-TTL:PT1H
BEGIN:VTIMEZONE
TZID:America/Denver
BEGIN:DAYLIGHT
TZOFFSETFROM:-0700
TZOFFSETTO:-0600
TZNAME:MDT
DTSTART:20230312T090000
END:DAYLIGHT
BEGIN:STANDARD
TZOFFSETFROM:-0600
TZOFFSETTO:-0700
TZNAME:MST
DTSTART:20231105T080000
END:STANDARD
BEGIN:DAYLIGHT
TZOFFSETFROM:-0700
TZOFFSETTO:-0600
TZNAME:MDT
DTSTART:20240310T090000
END:DAYLIGHT
BEGIN:STANDARD
TZOFFSETFROM:-0600
TZOFFSETTO:-0700
TZNAME:MST
DTSTART:20241103T080000
END:STANDARD
BEGIN:DAYLIGHT
TZOFFSETFROM:-0700
TZOFFSETTO:-0600
TZNAME:MDT
DTSTART:20250309T090000
END:DAYLIGHT
BEGIN:STANDARD
TZOFFSETFROM:-0600
TZOFFSETTO:-0700
TZNAME:MST
DTSTART:20251102T080000
END:STANDARD
BEGIN:DAYLIGHT
TZOFFSETFROM:-0700
TZOFFSETTO:-0600
TZNAME:MDT
DTSTART:20260308T090000
END:DAYLIGHT
BEGIN:STANDARD
TZOFFSETFROM:-0600
TZOFFSETTO:-0700
TZNAME:MST
DTSTART:20261101T080000
END:STANDARD
END:VTIMEZONE
BEGIN:VTIMEZONE
TZID:America/Denver
BEGIN:DAYLIGHT
TZOFFSETFROM:-0700
TZOFFSETTO:-0600
TZNAME:MDT
DTSTART:20230312T090000
END:DAYLIGHT
BEGIN:STANDARD
TZOFFSETFROM:-0600
TZOFFSETTO:-0700
TZNAME:MST
DTSTART:20231105T080000
END:STANDARD
BEGIN:DAYLIGHT
TZOFFSETFROM:-0700
TZOFFSETTO:-0600
TZNAME:MDT
DTSTART:20240310T090000
END:DAYLIGHT
BEGIN:STANDARD
TZOFFSETFROM:-0600
TZOFFSETTO:-0700
TZNAME:MST
DTSTART:20241103T080000
END:STANDARD
BEGIN:DAYLIGHT
TZOFFSETFROM:-0700
TZOFFSETTO:-0600
TZNAME:MDT
DTSTART:20250309T090000
END:DAYLIGHT
BEGIN:STANDARD
TZOFFSETFROM:-0600
TZOFFSETTO:-0700
TZNAME:MST
DTSTART:20251102T080000
END:STANDARD
END:VTIMEZONE
BEGIN:VTIMEZONE
TZID:America/Los_Angeles
BEGIN:DAYLIGHT
TZOFFSETFROM:-0800
TZOFFSETTO:-0700
TZNAME:PDT
DTSTART:20230312T100000
END:DAYLIGHT
BEGIN:STANDARD
TZOFFSETFROM:-0700
TZOFFSETTO:-0800
TZNAME:PST
DTSTART:20231105T090000
END:STANDARD
BEGIN:DAYLIGHT
TZOFFSETFROM:-0800
TZOFFSETTO:-0700
TZNAME:PDT
DTSTART:20240310T100000
END:DAYLIGHT
BEGIN:STANDARD
TZOFFSETFROM:-0700
TZOFFSETTO:-0800
TZNAME:PST
DTSTART:20241103T090000
END:STANDARD
BEGIN:DAYLIGHT
TZOFFSETFROM:-0800
TZOFFSETTO:-0700
TZNAME:PDT
DTSTART:20250309T100000
END:DAYLIGHT
BEGIN:STANDARD
TZOFFSETFROM:-0700
TZOFFSETTO:-0800
TZNAME:PST
DTSTART:20251102T090000
END:STANDARD
END:VTIMEZONE
BEGIN:VEVENT
DTSTART;TZID=America/Denver:20250426T080000
DTEND;TZID=America/Denver:20250426T170000
DTSTAMP:20260421T111135
CREATED:20241208T133950Z
LAST-MODIFIED:20250327T221428Z
UID:12125-1745654400-1745686800@wuspba.org
SUMMARY:2025 Pipes and Pubs #2 Blue Note
DESCRIPTION:4/26-27/2025\nPipes and Pubs #2\nBlue Note Brewing Company NorCal Celtic Festival\n750 Dead Cat Alley\, Woodland\, CA 95695\nSponsor: City of Sacramento Pipe Band\nhttps://www.r2sports.com/tourney/home.asp?TID=46821 \nLiz Tubbs\nlizcspb@aol.com\n916-812-4277
URL:https://wuspba.org/event/2025-pipes-and-pubs-2-blue-note-not-yet-sanctioned/
END:VEVENT
BEGIN:VEVENT
DTSTART;TZID=America/Denver:20250412T080000
DTEND;TZID=America/Denver:20250413T170000
DTSTAMP:20260421T111135
CREATED:20241208T134441Z
LAST-MODIFIED:20250327T221257Z
UID:12139-1744444800-1744563600@wuspba.org
SUMMARY:2025 Las Vegas Highland Games
DESCRIPTION:April 12-13\, 2025\nLas Vegas Highland Games\nCraig Ranch Regional Park\n625 W Craig Road\, North Las Vegas\, NV 89032\nLas Vegas Celtic Society\nwww.lasvegascelticsociety.org \nhttps://www.r2sports.com/membership/home.asp?TID=47730 \nJames Buggie\npiping@lasvegascelticsociety.org\n(702) 521-1359
URL:https://wuspba.org/event/2025-las-vegas-highland-games-not-yet-sanctioned/
END:VEVENT
BEGIN:VEVENT
DTSTART;TZID=America/Denver:20250412T080000
DTEND;TZID=America/Denver:20250412T170000
DTSTAMP:20260421T111135
CREATED:20241208T134518Z
LAST-MODIFIED:20250327T221221Z
UID:12141-1744444800-1744477200@wuspba.org
SUMMARY:2025 Intermountain Indoor Competition
DESCRIPTION:April 12\, 2025 \nIntermountain Branch Indoor Solo Competition\nPikes Peak Brewing Company\n1756 Lake Woodmoor Dr\, Monument\, CO 80132\nIntermountain Branch\, WUSPBA \nhttps://www.r2sports.com/membership/matchSearch.asp?TID=48624 \nDrew McPheeters\ndbmcpheeters@gmail.com
URL:https://wuspba.org/event/2025-intermountain-indoor-competition-not-yet-sanctioned/
END:VEVENT
BEGIN:VEVENT
DTSTART;TZID=America/Denver:20250331T080000
DTEND;TZID=America/Denver:20250331T170000
DTSTAMP:20260421T111135
CREATED:20250116T040832Z
LAST-MODIFIED:20250327T221041Z
UID:12240-1743408000-1743440400@wuspba.org
SUMMARY:YEC Online Solo Competition 2025 - Western States Qualifier
DESCRIPTION:YEC Online Solo Competition 2025 - Western States Qualifier - Sanctioned\nAsynchronous YouTube Video upload (due by 3/31/25)\nMarch 31\, 2025\nWUSPBA's Youth Education Council\nhttps://www.r2sports.com/tourney/home.asp?TID=47283 \nYEC Executive Council Chair\, Logan Gorsuch\nyecexec@wuspba.org\n310-974-0408
URL:https://wuspba.org/event/yec-online-solo-competition-2025-western-states-qualifier/
END:VEVENT
BEGIN:VEVENT
DTSTART;TZID=America/Denver:20250322T080000
DTEND;TZID=America/Denver:20250322T170000
DTSTAMP:20260421T111135
CREATED:20241208T133739Z
LAST-MODIFIED:20250107T030924Z
UID:12121-1742630400-1742662800@wuspba.org
SUMMARY:2025 Pipes and Pubs #1 Idol Beerworks
DESCRIPTION:Pipes and Pubs #1\nIDOL Beerworks\n100 S. Sacramento Street\, Lodi\, CA 95420\nSponsor: City of Sacramento Pipe Band\nhttps://www.r2sports.com/tourney/home.asp?TID=46820 \nLiz Tubbs\nlizcspb@aol.com\n916-812-4277
URL:https://wuspba.org/event/2025-pipes-and-pubs-1-idol-beerworks-not-yet-sanctioned/
END:VEVENT
BEGIN:VEVENT
DTSTART;TZID=America/Denver:20250301T080000
DTEND;TZID=America/Denver:20250302T170000
DTSTAMP:20260421T111135
CREATED:20241208T132621Z
LAST-MODIFIED:20250122T232149Z
UID:12107-1740816000-1740934800@wuspba.org
SUMMARY:2025 Redding Solo Competition (Sanctioned)
DESCRIPTION:3/1/2025 - 3/2/2025 \nRedding Bagpipe Competition \nRed Lion Hotel\n1830 Hilltop Dr\, Redding\, CA 96002\nSt. Florian Pipers Society \nhttps://www.r2sports.com/website/event-website.asp?TID=46237 \nMonty Messenger\nmonty@thesfps.com\n530-408-8254
URL:https://wuspba.org/event/2025-redding-solo-competition/
END:VEVENT
BEGIN:VEVENT
DTSTART;TZID=America/Denver:20241109T080000
DTEND;TZID=America/Denver:20241109T170000
DTSTAMP:20260421T111135
CREATED:20240722T160151Z
LAST-MODIFIED:20240914T141327Z
UID:11563-1731139200-1731171600@wuspba.org
SUMMARY:2024 Youth Education Council Prince Charles Pipe Band Solo Fall Contest
DESCRIPTION:11/9/2024  \nYouth Education Council Prince Charles Pipe Band Solo Fall Contest\nKairos Public School\n129 Elm St\, Vacaville\, CA 95688\nwww.yec.wuspba.org \nLara Thomsen\nexecutive.secretary@yec.wuspba.org\n(707) 345 1946
URL:https://wuspba.org/event/2024-youth-education-council-prince-charles-pipe-band-solo-fall-contest/
END:VEVENT
BEGIN:VEVENT
DTSTART;TZID=America/Denver:20241102T080000
DTEND;TZID=America/Denver:20241102T170000
DTSTAMP:20260421T111135
CREATED:20240919T011549Z
LAST-MODIFIED:20240926T234548Z
UID:11911-1730534400-1730566800@wuspba.org
SUMMARY:2024 Western States Champion Solo Invitational
DESCRIPTION:2024 Western States Champion Solo Invitational Webpage \nSolo Invitational Ceilidh & Competition Tickets HERE!!! \nBook your group rate for Western United States Pipe Band Association HERE! \nYou will find the information for your online reservation link below. If you have questions or need help with the link\, please do not hesitate to ask. We appreciate your business and look forward to a successful event. \nEvent Summary:\nWestern United States Pipe Band Association \nStart Date: Wednesday\, October 30\, 2024\nEnd Date: Tuesday\, November 05\, 2024\nHotel(s) offering your special group rate:\nLos Angeles Airport Marriott for 159.00 USD per night - Last Day to Book: Friday\, October 04\, 2024 \nBook your group rate for Western United States Pipe Band Association HERE!! \nWestern States Champion Solo Invitational\nPacific Palisades Presbyterian Church\n15821 Sunset Boulevard\, Pacific Palisades\, California 90272\nWestern United States Pipe Band Association \nJeffrey M Mann\nMannjeff@outlook.com\n(801) 554-8989
URL:https://wuspba.org/event/2024-western-states-champion-solo-invitational/
END:VEVENT
BEGIN:VEVENT
DTSTART;TZID=America/Denver:20241025T080000
DTEND;TZID=America/Denver:20241026T170000
DTSTAMP:20260421T111135
CREATED:20240802T175317Z
LAST-MODIFIED:20240802T175527Z
UID:11602-1729843200-1729962000@wuspba.org
SUMMARY:2024 WUSPBA AGM
DESCRIPTION:all the good information coming soon!!
URL:https://wuspba.org/event/2024-wuspba-agm/
END:VEVENT
BEGIN:VEVENT
DTSTART;TZID=America/Denver:20241012T080000
DTEND;TZID=America/Denver:20241013T170000
DTSTAMP:20260421T111135
CREATED:20240809T034510Z
LAST-MODIFIED:20240809T034510Z
UID:11696-1728720000-1728838800@wuspba.org
SUMMARY:2024 Seaside Highland Games
DESCRIPTION:Ventura County Fairgrounds\n10 West Harbor Blvd.\, Ventura\, California 93001\nwww.seasidehighlandgames.org\nSouthern Branch \nDavid Dailey\ndmdailey@prodigy.net\n858-254-9023
URL:https://wuspba.org/event/2024-seaside-highland-games/
END:VEVENT
BEGIN:VEVENT
DTSTART;VALUE=DATE:20241012
DTEND;VALUE=DATE:20241013
DTSTAMP:20260421T111135
CREATED:20240811T011716Z
LAST-MODIFIED:20240811T011716Z
UID:11702-1728691200-1728777599@wuspba.org
SUMMARY:2024 Angus MacDonald Piping Invitational
DESCRIPTION:Ventura County Fairgrounds\n10 West Harbor Boulevard\, Ventura\, CA 93001\nSeaside Highland Games \nGrades 2\, 1 & Open \nwww.seasidehighlandgames.org \nSeumus Coyne\nseumascoyne@gmail.com
URL:https://wuspba.org/event/2024-angus-macdonald-piping-invitational/
END:VEVENT
BEGIN:VEVENT
DTSTART;TZID=America/Denver:20241005T140000
DTEND;TZID=America/Denver:20241005T180000
DTSTAMP:20260421T111135
CREATED:20240801T180709Z
LAST-MODIFIED:20240801T180709Z
UID:11595-1728136800-1728151200@wuspba.org
SUMMARY:PM Ken Eller Celebration of Life
DESCRIPTION:PM Ken Eller\nCelebration of Life \nOctober 5\, 2025 \nat the Holiday Inn in St. Catherines\, Ontario Canada\n327 Ontario Street\nSt. Catherines\, Ontario\nL2R 5L3 Canada \n(888) 465-4329 \nFront Desk (905) 688-2324 \nhttps://www.ihg.com/holidayinn/hotels/us/en/st-catharines/ycmsa/hoteldetail?cm_mmc=GoogleMaps-_-HI-_-CA-_-YCMSA \n2:00 p.m. – 6:00 p.m. \nPlease RSVP……. captainscelebration@gmail.com
URL:https://wuspba.org/event/pm-ken-eller-celebration-of-life/
END:VEVENT
BEGIN:VEVENT
DTSTART;TZID=America/Denver:20240922T080000
DTEND;TZID=America/Denver:20240922T170000
DTSTAMP:20260421T111135
CREATED:20240723T102728Z
LAST-MODIFIED:20240808T200629Z
UID:11566-1726992000-1727024400@wuspba.org
SUMMARY:MacLeod Ale Solo Competition
DESCRIPTION:MacLeod Ale Solo Competition\nMacLeod Ale Brewing Company\n14741 Calvert St.\, Van Nuys\, CA 91411 \nBill Walker\nsb@wuspba.org\n310-595-0377 \nWUSPBA Southern Branch
URL:https://wuspba.org/event/2024-pipes-pubs-southern-solo-competition/
END:VEVENT
BEGIN:VEVENT
DTSTART;TZID=America/Denver:20240830T080000
DTEND;TZID=America/Denver:20240901T170000
DTSTAMP:20260421T111135
CREATED:20231005T010337Z
LAST-MODIFIED:20240808T201009Z
UID:10769-1725004800-1725210000@wuspba.org
SUMMARY:Caledonian Club of San Francisco Scottish Games and Gathering - sanctioned
DESCRIPTION:Caledonian Club of San Francisco Scottish Games and Gathering \nAlameda County Fairgrounds \n4501 Pleasanton Ave\, Pleasanton\, California 94566 \nhttps://TheScottishGames.com \nNorthern Branch \nhttps://www.r2sports.com/website/event-website.asp?TID=41751 \n the 2024 Pleasanton Band Schedule  \nhttps://wuspba.org/wp-content/uploads/JMM-Final-Pleasanton-Band-Schedule-2024_v2.xlsx \nthe 2024 Pleasanton Solo Schedules \nhttps://wuspba.org/2024-pleasanton-solo-schedules/
URL:https://wuspba.org/event/caledonian-club-of-san-francisco-scottish-games-and-gathering-sanctioned-2/
END:VEVENT
BEGIN:VEVENT
DTSTART;TZID=America/Denver:20240803T080000
DTEND;TZID=America/Denver:20240804T170000
DTSTAMP:20260421T111135
CREATED:20240618T151537Z
LAST-MODIFIED:20240618T152651Z
UID:11526-1722672000-1722790800@wuspba.org
SUMMARY:2024 Colorado Scottish Festival
DESCRIPTION:8/3/2024 - 8/4/2024\nColorado Scottish Festival\nDenver Polo Club\n6359 Airport Road\, Sedalia\, CO 80135\nColorado St Andrews Society\nhttps://www.scottishgames.org\nIntermountain Branch \nLindsay and Jamie Cuthill\njrcuthill@yahoo.com\n303-324-6366
URL:https://wuspba.org/event/2024-colorado-scottish-festival/
END:VEVENT
BEGIN:VEVENT
DTSTART;TZID=America/Denver:20240727T080000
DTEND;TZID=America/Denver:20240727T170000
DTSTAMP:20260421T111135
CREATED:20231005T010458Z
LAST-MODIFIED:20240305T053923Z
UID:10771-1722067200-1722099600@wuspba.org
SUMMARY:Golden Gate Indoor Solo Piping & Drumming Contest
DESCRIPTION:Golden Gate Indoor Solo Piping & Drumming Contest \nUnited Irish Cultural Center of San Francisco \n2700 45th Avenue\, San Francisco\, CA 94116 \nIrish Pipers Band of San Francisco \nhttps://irishpipers.wordpress.com/golden-gate-indoor/ \n  \nhttps://www.r2sports.com/website/event-website.asp?TID=41739
URL:https://wuspba.org/event/golden-gate-indoor-solo-piping-drumming-contest-sanctioned/
END:VEVENT
BEGIN:VEVENT
DTSTART;TZID=America/Denver:20240720T090000
DTEND;TZID=America/Denver:20240721T160000
DTSTAMP:20260421T111135
CREATED:20240429T195034Z
LAST-MODIFIED:20240429T195034Z
UID:11180-1721466000-1721577600@wuspba.org
SUMMARY:2024 Arizona Highland Celtic Festival
DESCRIPTION:2024 Arizona Highland Celtic Festival \nJuly 20th and 21st\, 2024 \nFort Tuhill\, Flagstaff AZ \nNorthern Arizona Celtic Heritage Society \nJeannine Angle Dobbins \ndurangoj9s@gmail.com \n 
URL:https://wuspba.org/event/2024-arizona-highland-celtic-festival/
END:VEVENT
BEGIN:VEVENT
DTSTART;TZID=America/Denver:20240720T080000
DTEND;TZID=America/Denver:20240721T170000
DTSTAMP:20260421T111135
CREATED:20240602T230127Z
LAST-MODIFIED:20240602T230421Z
UID:11460-1721462400-1721581200@wuspba.org
SUMMARY:Elizabeth Celtic Festival
DESCRIPTION:Elizabeth Celtic Festival\nCasey Jones Park\n34180 County Rd 17\, Elizabeth CO  80107 \nElizabeth Celtic Festival Association\nhttps://www.elizabethcelticfest.org/\nIntermountain \nNeil Gillette\nneil80222@gmail.com\n303-332-6133
URL:https://wuspba.org/event/elizabeth-celtic-festival-2/
END:VEVENT
BEGIN:VEVENT
DTSTART;TZID=America/Denver:20240712T170000
DTEND;TZID=America/Denver:20240713T190000
DTSTAMP:20260421T111135
CREATED:20240429T190107Z
LAST-MODIFIED:20240524T010356Z
UID:11170-1720803600-1720897200@wuspba.org
SUMMARY:Payson Scottish Festival 2024
DESCRIPTION:Join us for the Payson Scottish Festival’s \n40th year anniversary! \nFriday- July 12th and Saturday- July 13th 2024 \nat Payson Memorial park. \nThe Payson Scottish Festival is now accepting \nband and solo registrations! \nOnline entries are available through June 28th\, 2024. \nLate entries will not be accepted.\nClick HERE to register \nBAND EVENTS:\nThe Payson Scottish Festival is offering band competitions for grades 2-5 and\njuvenile.\nBands placing in 1st\, 2nd\, 3rd in each grade will receive prize money.\nWe are thrilled to announce our judges this year:\nJamie Cuthill\nSeumas Coyne\nRoss Naismith\nGraham Brown \nSOLO PIPING AND DRUMMING EVENTS:\n*Depending on the number of competitors\, Friday afternoon solos may start as\nearly as 2:00 PM.\nPiping: open and grades 1-5\nSnare: open and grades 1-5\nTenor and bass events in novice\, intermediate and open\nNovice practice chanter and practice pad \nSOLO EVENTS: Piping\nFriday afternoon (as early as 2:00):\nLight music grades 2\, 3\nPiobaireachd grade 4\nAll events for grade 5\, 1 and open\nPractice chanter\nAll side drum solo events\nPractice pad \nSOLO EVENTS: Drumming\nSaturday morning:\nLight music grade 4\nPiobaireachd grades 3\, 2\nTenor solo events\nBass solo events\n*Please note these events might change without notice due to the number of\ncompetitors and schedule changes. Our goal is to move most solo events to Friday\nafternoon in order to start the band competitions earlier on Saturday. \nBAND EVENTS:\nAll band events will be held on Saturday\nJuvenile - Quick March Medley\, MSM\nGrade 5 - Quick March Medley\, MSM\nGrade 4 - Medley\, MSR\nGrade 3 - Medley\, MSR\nGrade 2 - Medley\, MSR \nPlease contact Kerri Welton if you have any questions \nkwelton27@hotmail.com. \nFor more information about the festival visit: www.paysonscottishfestival.org
URL:https://wuspba.org/event/payson-scottish-festival-2024/
END:VEVENT
BEGIN:VEVENT
DTSTART;TZID=America/Denver:20240622T080000
DTEND;TZID=America/Denver:20240623T170000
DTSTAMP:20260421T111135
CREATED:20240429T193228Z
LAST-MODIFIED:20240503T224843Z
UID:11177-1719043200-1719162000@wuspba.org
SUMMARY:2024 San Diego Scottish Highland Games
DESCRIPTION:Piping and Drumming Contest: San Diego Scottish Highland Games\nDates: Jun 22-23\, 2024\nLocation: Vista\, CA USA - Brengle Terrace Park\nDirector: David Dailey\nEntry Deadline: 6/14/2024 9:00 PM CT\nWebsite Link: https://www.r2sports.com/tourney.asp?TID=42380 \nThe San Diego Scottish Highland Games are\naccepting Band and Solo Registration! \nThe Games will take place at Brengle\nTerrace Park in Vista\, California on Saturday June 22nd\, and Sunday June 23rd. \nAll grades of solo piping\, \nG5\, 4 and 3 on Saturday\, \nG2\, 1 and Open on Sunday. \nAll grades of all drum solos on Saturday with a free drumming workshop on Sunday. \nDrum Major competition with a free workshop on Saturday. \nBands Competitions \nGrade 3\, 4 and 5. \nWe'll see you there! \nAny questions email David Dailey at \ndmdailey73@gmail.com
URL:https://wuspba.org/event/2024-san-diego-scottish-highland-games/
END:VEVENT
BEGIN:VEVENT
DTSTART;TZID=America/Denver:20240614T080000
DTEND;TZID=America/Denver:20240616T170000
DTSTAMP:20260421T111135
CREATED:20240227T025013Z
LAST-MODIFIED:20240610T220156Z
UID:11060-1718352000-1718557200@wuspba.org
SUMMARY:Utah Scottish Festival and Highland Games - sanctioned
DESCRIPTION: Get Ready for the 2024 Utah Scottish Festival & Highland Games!  \nThe Utah Scottish Association is excited to invite you to the Utah Scottish Games at Utah State Fairpark\, from June 14-16\, 2024. Mark your calendars for a weekend filled with thrilling competitions\, cultural heritage\, and unforgettable memories! \nSaturday Solo Schedule \nSunday Solo Schedule \nBand Competition Schedule \nRegistration Open for Bands and Solo Performers!\nJoin the ranks of competitors in both band and solo events. Whether you're showcasing your skills in piping\, drumming\, or part of a band\, this is your platform to shine. \nEvent Highlights: \n\nBand Competitions: Grades 2-5. Compete for prize money and a performance fee. Events on Saturday and Sunday afternoons.\nSolo Piping and Drumming: All amateur grades\, including special categories like Novice Practice Chanter and Drum Salute. Events spread across Saturday and Sunday mornings.\n\n Important Dates: \n\nRegistration Deadline: June 2\, 2024. Secure your spot early – late entries will not be accepted!\n\nExtra Attractions: \n\nMidsection and Drum Salute contests with more details to be announced.\nExclusive workshops and more information coming soon.\n\nReady to Join? Click below to register and find more about the festival:\nRegister Now \nFor more festival details\, visit Utah Scottish Association. \nQuestions? Reach out to Larry and Cathy Erdmann\, the dedicated Co-Chairs for Piping and Drumming\, at oldpiper001@gmail.com. \nDon't miss this extraordinary celebration of Scottish culture and competition. Whether participating or spectating\, it promises to be a weekend to remember. \nSee you at the Fairpark! \nBest Regards\, \nCathy & Larry Erdmann - WUSPBA \n  \nUtah Scottish Festival and Highland Games \nUtah State Fair Park \n155 1000 W\, Salt Lake City\, UT 84116 \nJune 14 -16\, 2024 \nUtah Scottish Association
URL:https://wuspba.org/event/utah-scottish-festival-and-highland-games-sanctioned/
END:VEVENT
BEGIN:VEVENT
DTSTART;TZID=America/Denver:20240608T080000
DTEND;TZID=America/Denver:20240608T170000
DTSTAMP:20260421T111135
CREATED:20240215T052242Z
LAST-MODIFIED:20240305T053815Z
UID:11056-1717833600-1717866000@wuspba.org
SUMMARY:Pipes and Pubs #3 - Tilted Mash - sanctioned
DESCRIPTION:Tilted Mash Brewing \n9175 Union Park Way\, Elk Grove\, CA 95624 \nCity of Sacramento Pipe Band \nNorthern Branch \nhttps://www.r2sports.com/tourney/home.asp?TID=42157
URL:https://wuspba.org/event/pipes-and-pubs-3-tilted-mash-sanctioned/
END:VEVENT
BEGIN:VEVENT
DTSTART;TZID=America/Denver:20240525T100000
DTEND;TZID=America/Denver:20240527T173000
DTSTAMP:20260421T111135
CREATED:20240429T191943Z
LAST-MODIFIED:20240429T191943Z
UID:11174-1716631200-1716831000@wuspba.org
SUMMARY:USS Costa Mesa Games 2024
DESCRIPTION:USS Costa Mesa Games 2024 \nMay 25th and 26th\, 2024 \nLocation\, Orange County & Event Center \nCosta Mesa CA \nwww.scottishfest.com \nScott Macdonald \nsmacdonald@smdsales-inc.com
URL:https://wuspba.org/event/uss-costa-mesa-games-2024/
END:VEVENT
BEGIN:VEVENT
DTSTART;TZID=America/Denver:20240504T080000
DTEND;TZID=America/Denver:20240505T170000
DTSTAMP:20260421T111135
CREATED:20240118T184302Z
LAST-MODIFIED:20240121T171526Z
UID:11026-1714809600-1714928400@wuspba.org
SUMMARY:Rio Grande Valley Celtic Festival - sanctioned
DESCRIPTION:Rio Grande Valley Celtic Festival \nBalloon Fiesta Park \n5000 Balloon Fiesta Park NE\, Albuquerque\, NM 87113 \nRio Grand Valley Celtic Festival Association \nIntermountain Branch
URL:https://wuspba.org/event/rio-grande-valley-celtic-festival-sanctioned-3/
END:VEVENT
BEGIN:VEVENT
DTSTART;TZID=America/Los_Angeles:20240504T080000
DTEND;TZID=America/Los_Angeles:20240504T130000
DTSTAMP:20260421T111135
CREATED:20240417T183703Z
LAST-MODIFIED:20240417T183703Z
UID:11154-1714809600-1714827600@wuspba.org
SUMMARY:Spring Jedi Solo Contest & YEC Workshop
DESCRIPTION:To Register: https://www.r2sports.com/tourney/home.asp?TID=42298 \nMay the 4th flyer
URL:https://wuspba.org/event/spring-jedi-solo-contest-yec-workshop/
END:VEVENT
BEGIN:VEVENT
DTSTART;TZID=America/Denver:20240427T080000
DTEND;TZID=America/Denver:20240427T170000
DTSTAMP:20260421T111135
CREATED:20231223T162821Z
LAST-MODIFIED:20240305T053844Z
UID:10984-1714204800-1714237200@wuspba.org
SUMMARY:Pipes and Pubs #2 - sanctioned
DESCRIPTION:Pipes and Pubs #2 \nBlue Note Brewing Company \n750 Dead Cat Alley\, Woodland\, CA  95695 \nCity of Sacramento Pipe Band \nNorthern Branch \nhttps://www.r2sports.com/tourney/home.asp?TID=41990
URL:https://wuspba.org/event/pipes-and-pubs-2-sanctioned-3/
END:VEVENT
BEGIN:VEVENT
DTSTART;VALUE=DATE:20240420
DTEND;VALUE=DATE:20240421
DTSTAMP:20260421T111135
CREATED:20240503T234237Z
LAST-MODIFIED:20240503T234237Z
UID:11224-1713571200-1713657599@wuspba.org
SUMMARY:2024 Intermountain Indoor Competition
DESCRIPTION:4/20/2024 \nLocation \nPikes Peak Brewing Company  \n100 S. Sacramento Street\, Lodi\, CA 95420 \nLiz Tubbs \nlizcspb@aol.com \nCity of Sacramento Pipe Band
URL:https://wuspba.org/event/2024-intermountain-indoor-competition/
END:VEVENT
BEGIN:VEVENT
DTSTART;TZID=America/Los_Angeles:20240413T080000
DTEND;TZID=America/Los_Angeles:20240414T235900
DTSTAMP:20260421T111135
CREATED:20240326T144532Z
LAST-MODIFIED:20240327T014554Z
UID:11103-1712995200-1713139140@wuspba.org
SUMMARY:2024 LAS VEGAS HIGHLAND GAMES    - SANCTIONED
DESCRIPTION:2024 Las Vegas Highland Games & Highland Games \nCraig Ranch Park \n628 Craig Road \nNorth Las Vegas\, NV \nApril 13- April 14 \nLas Vegas Celtic Society \nWEBSITE INFORMATION IS AT: LASVEGASCELTICSOCIETY.ORG \nPiping & drumming information: https://www.lasvegascelticsociety.org/pipebands \nPlease contact James Buggie\, Chair of Piping and Drumming at: piping@lasvegascelticsociety.org \nTo be directed to the entry form\, please click the link below: \nhttps://www.r2sports.com/website/event-website.asp?TID=42116
URL:https://wuspba.org/event/2024-las-vegas-highland-games-april-1314-2024-at-craig-ranch-park-sanctioned/
END:VEVENT
BEGIN:VEVENT
DTSTART;TZID=America/Denver:20240323T080000
DTEND;TZID=America/Denver:20240323T170000
DTSTAMP:20260421T111135
CREATED:20231223T162933Z
LAST-MODIFIED:20240305T053642Z
UID:10986-1711180800-1711213200@wuspba.org
SUMMARY:Pipes and Pubs #1 - sanctioned
DESCRIPTION:Pipes and Pubs #1 \nIDOL Beerworks \n100 S.  Sacramento Street\, Lodi\, CA  95420 \nCity of Sacramento Pipe Band \nhttps://www.r2sports.com/tourney/home.asp?TID=41989
URL:https://wuspba.org/event/pipes-and-pubs-1-sanctioned-3/
END:VEVENT
BEGIN:VEVENT
DTSTART;TZID=America/Denver:20240302T080000
DTEND;TZID=America/Denver:20240303T170000
DTSTAMP:20260421T111135
CREATED:20231223T162700Z
LAST-MODIFIED:20231223T162700Z
UID:10982-1709366400-1709485200@wuspba.org
SUMMARY:Phoenix Scottish Games - sanctioned
DESCRIPTION:Phoenix Scottish Games \nGilbert Regional Park \n3005 E Queen Creek Rd\, Gilbert\, AZ 85298 \nCaledonian Society of AZ \nhttps://phoenixscottishgames.com/ \nDesert Branch
URL:https://wuspba.org/event/phoenix-scottish-games-sanctioned-3/
END:VEVENT
END:VCALENDAR