BEGIN:VCALENDAR
VERSION:2.0
PRODID:-//The Western United States Pipe Band Association - ECPv6.15.20//NONSGML v1.0//EN
CALSCALE:GREGORIAN
METHOD:PUBLISH
X-WR-CALNAME:The Western United States Pipe Band Association
X-ORIGINAL-URL:https://wuspba.org
X-WR-CALDESC:Events for The Western United States Pipe Band Association
REFRESH-INTERVAL;VALUE=DURATION:PT1H
X-Robots-Tag:noindex
X-PUBLISHED-TTL:PT1H
BEGIN:VTIMEZONE
TZID:America/Los_Angeles
BEGIN:DAYLIGHT
TZOFFSETFROM:-0800
TZOFFSETTO:-0700
TZNAME:PDT
DTSTART:20230312T100000
END:DAYLIGHT
BEGIN:STANDARD
TZOFFSETFROM:-0700
TZOFFSETTO:-0800
TZNAME:PST
DTSTART:20231105T090000
END:STANDARD
BEGIN:DAYLIGHT
TZOFFSETFROM:-0800
TZOFFSETTO:-0700
TZNAME:PDT
DTSTART:20240310T100000
END:DAYLIGHT
BEGIN:STANDARD
TZOFFSETFROM:-0700
TZOFFSETTO:-0800
TZNAME:PST
DTSTART:20241103T090000
END:STANDARD
BEGIN:DAYLIGHT
TZOFFSETFROM:-0800
TZOFFSETTO:-0700
TZNAME:PDT
DTSTART:20250309T100000
END:DAYLIGHT
BEGIN:STANDARD
TZOFFSETFROM:-0700
TZOFFSETTO:-0800
TZNAME:PST
DTSTART:20251102T090000
END:STANDARD
END:VTIMEZONE
BEGIN:VTIMEZONE
TZID:America/Denver
BEGIN:DAYLIGHT
TZOFFSETFROM:-0700
TZOFFSETTO:-0600
TZNAME:MDT
DTSTART:20220313T090000
END:DAYLIGHT
BEGIN:STANDARD
TZOFFSETFROM:-0600
TZOFFSETTO:-0700
TZNAME:MST
DTSTART:20221106T080000
END:STANDARD
BEGIN:DAYLIGHT
TZOFFSETFROM:-0700
TZOFFSETTO:-0600
TZNAME:MDT
DTSTART:20230312T090000
END:DAYLIGHT
BEGIN:STANDARD
TZOFFSETFROM:-0600
TZOFFSETTO:-0700
TZNAME:MST
DTSTART:20231105T080000
END:STANDARD
BEGIN:DAYLIGHT
TZOFFSETFROM:-0700
TZOFFSETTO:-0600
TZNAME:MDT
DTSTART:20240310T090000
END:DAYLIGHT
BEGIN:STANDARD
TZOFFSETFROM:-0600
TZOFFSETTO:-0700
TZNAME:MST
DTSTART:20241103T080000
END:STANDARD
BEGIN:DAYLIGHT
TZOFFSETFROM:-0700
TZOFFSETTO:-0600
TZNAME:MDT
DTSTART:20250309T090000
END:DAYLIGHT
BEGIN:STANDARD
TZOFFSETFROM:-0600
TZOFFSETTO:-0700
TZNAME:MST
DTSTART:20251102T080000
END:STANDARD
END:VTIMEZONE
BEGIN:VEVENT
DTSTART;TZID=America/Los_Angeles:20240504T080000
DTEND;TZID=America/Los_Angeles:20240504T130000
DTSTAMP:20260422T165655
CREATED:20240417T183703Z
LAST-MODIFIED:20240417T183703Z
UID:11154-1714809600-1714827600@wuspba.org
SUMMARY:Spring Jedi Solo Contest & YEC Workshop
DESCRIPTION:To Register: https://www.r2sports.com/tourney/home.asp?TID=42298 \nMay the 4th flyer
URL:https://wuspba.org/event/spring-jedi-solo-contest-yec-workshop/
END:VEVENT
BEGIN:VEVENT
DTSTART;TZID=America/Denver:20240427T080000
DTEND;TZID=America/Denver:20240427T170000
DTSTAMP:20260422T165655
CREATED:20231223T162821Z
LAST-MODIFIED:20240305T053844Z
UID:10984-1714204800-1714237200@wuspba.org
SUMMARY:Pipes and Pubs #2 - sanctioned
DESCRIPTION:Pipes and Pubs #2 \nBlue Note Brewing Company \n750 Dead Cat Alley\, Woodland\, CA  95695 \nCity of Sacramento Pipe Band \nNorthern Branch \nhttps://www.r2sports.com/tourney/home.asp?TID=41990
URL:https://wuspba.org/event/pipes-and-pubs-2-sanctioned-3/
END:VEVENT
BEGIN:VEVENT
DTSTART;VALUE=DATE:20240420
DTEND;VALUE=DATE:20240421
DTSTAMP:20260422T165655
CREATED:20240503T234237Z
LAST-MODIFIED:20240503T234237Z
UID:11224-1713571200-1713657599@wuspba.org
SUMMARY:2024 Intermountain Indoor Competition
DESCRIPTION:4/20/2024 \nLocation \nPikes Peak Brewing Company  \n100 S. Sacramento Street\, Lodi\, CA 95420 \nLiz Tubbs \nlizcspb@aol.com \nCity of Sacramento Pipe Band
URL:https://wuspba.org/event/2024-intermountain-indoor-competition/
END:VEVENT
BEGIN:VEVENT
DTSTART;TZID=America/Los_Angeles:20240413T080000
DTEND;TZID=America/Los_Angeles:20240414T235900
DTSTAMP:20260422T165655
CREATED:20240326T144532Z
LAST-MODIFIED:20240327T014554Z
UID:11103-1712995200-1713139140@wuspba.org
SUMMARY:2024 LAS VEGAS HIGHLAND GAMES    - SANCTIONED
DESCRIPTION:2024 Las Vegas Highland Games & Highland Games \nCraig Ranch Park \n628 Craig Road \nNorth Las Vegas\, NV \nApril 13- April 14 \nLas Vegas Celtic Society \nWEBSITE INFORMATION IS AT: LASVEGASCELTICSOCIETY.ORG \nPiping & drumming information: https://www.lasvegascelticsociety.org/pipebands \nPlease contact James Buggie\, Chair of Piping and Drumming at: piping@lasvegascelticsociety.org \nTo be directed to the entry form\, please click the link below: \nhttps://www.r2sports.com/website/event-website.asp?TID=42116
URL:https://wuspba.org/event/2024-las-vegas-highland-games-april-1314-2024-at-craig-ranch-park-sanctioned/
END:VEVENT
BEGIN:VEVENT
DTSTART;TZID=America/Denver:20240323T080000
DTEND;TZID=America/Denver:20240323T170000
DTSTAMP:20260422T165655
CREATED:20231223T162933Z
LAST-MODIFIED:20240305T053642Z
UID:10986-1711180800-1711213200@wuspba.org
SUMMARY:Pipes and Pubs #1 - sanctioned
DESCRIPTION:Pipes and Pubs #1 \nIDOL Beerworks \n100 S.  Sacramento Street\, Lodi\, CA  95420 \nCity of Sacramento Pipe Band \nhttps://www.r2sports.com/tourney/home.asp?TID=41989
URL:https://wuspba.org/event/pipes-and-pubs-1-sanctioned-3/
END:VEVENT
BEGIN:VEVENT
DTSTART;TZID=America/Denver:20240302T080000
DTEND;TZID=America/Denver:20240303T170000
DTSTAMP:20260422T165655
CREATED:20231223T162700Z
LAST-MODIFIED:20231223T162700Z
UID:10982-1709366400-1709485200@wuspba.org
SUMMARY:Phoenix Scottish Games - sanctioned
DESCRIPTION:Phoenix Scottish Games \nGilbert Regional Park \n3005 E Queen Creek Rd\, Gilbert\, AZ 85298 \nCaledonian Society of AZ \nhttps://phoenixscottishgames.com/ \nDesert Branch
URL:https://wuspba.org/event/phoenix-scottish-games-sanctioned-3/
END:VEVENT
BEGIN:VEVENT
DTSTART;TZID=America/Denver:20240302T080000
DTEND;TZID=America/Denver:20240303T170000
DTSTAMP:20260422T165655
CREATED:20231223T162510Z
LAST-MODIFIED:20231223T162546Z
UID:10979-1709366400-1709485200@wuspba.org
SUMMARY:Redding Bagpipe Competition - sanctioned
DESCRIPTION:Redding Bagpipe Competition \nRed Lion Hotel 1830 Hilltop Dr\, Redding\, CA 96002 \nSt. Florian Pipers Society \nReddingbagpipecompetition.com \nNorthern Branch
URL:https://wuspba.org/event/redding-bagpipe-competition-sanctioned-3/
END:VEVENT
BEGIN:VEVENT
DTSTART;TZID=America/Denver:20240219T080000
DTEND;TZID=America/Denver:20240219T170000
DTSTAMP:20260422T165655
CREATED:20240118T184956Z
LAST-MODIFIED:20240118T185012Z
UID:11028-1708329600-1708362000@wuspba.org
SUMMARY:YEC Winter Online Competition - sanctioned
DESCRIPTION:YEC Winter Online Competition \nFebruary 19th\, 2024 \nWUSPBA's YEC \nhttps://sites.google.com/view/wuspba-yec/home?authuser=0
URL:https://wuspba.org/event/yec-winter-online-competition/
END:VEVENT
BEGIN:VEVENT
DTSTART;TZID=America/Denver:20231202T080000
DTEND;TZID=America/Denver:20231202T170000
DTSTAMP:20260422T165655
CREATED:20230801T030401Z
LAST-MODIFIED:20230801T031845Z
UID:10671-1701504000-1701536400@wuspba.org
SUMMARY:WUSPBA AGM
DESCRIPTION:Via Zoom \nMore details will be added
URL:https://wuspba.org/event/wuspba-agm/
END:VEVENT
BEGIN:VEVENT
DTSTART;TZID=America/Denver:20231104T080000
DTEND;TZID=America/Denver:20231105T170000
DTSTAMP:20260422T165655
CREATED:20231006T040940Z
LAST-MODIFIED:20231006T040940Z
UID:10781-1699084800-1699203600@wuspba.org
SUMMARY:Tucson Celtic Festival and Scottish Highland Games - sanctioned
DESCRIPTION:Tucson Celtic Festival and Scottish Highland Games \nRillito Raceway Park \n4502 N. First Ave.\, Tucson\, AZ  85718 \nTucson Celtic Festival Association
URL:https://wuspba.org/event/tucson-celtic-festival-and-scottish-highland-games-sanctioned/
END:VEVENT
BEGIN:VEVENT
DTSTART;TZID=America/Denver:20231020T080000
DTEND;TZID=America/Denver:20231022T170000
DTSTAMP:20260422T165655
CREATED:20230716T022109Z
LAST-MODIFIED:20230716T022109Z
UID:10619-1697788800-1697994000@wuspba.org
SUMMARY:Moab Celtic Festival - Scots on the Rocks - sanctioned
DESCRIPTION:Moab Celtic Festival - Scots on the Rocks \nMoab Ball Park \n250 East Main Street\, Moab\,Utah  84532 \nhttps://www.scotsontherocksmoab.org/ \nGreat Basin Branch
URL:https://wuspba.org/event/moab-celtic-festival-scots-on-the-rocks-sanctioned/
END:VEVENT
BEGIN:VEVENT
DTSTART;TZID=America/Denver:20231014T080000
DTEND;TZID=America/Denver:20231015T170000
DTSTAMP:20260422T165655
CREATED:20230603T201338Z
LAST-MODIFIED:20230603T201816Z
UID:10557-1697270400-1697389200@wuspba.org
SUMMARY:Seaside Highland Games - sanctioned
DESCRIPTION:Seaside Highland Games \nVentura County Fairgrounds \n10 West Harbor Blvd.\, Ventura\, California 93001 \nSeaside Highland Games \nwww.seasidehighlandgames.org
URL:https://wuspba.org/event/seaside-highland-games-sanctioned/
END:VEVENT
BEGIN:VEVENT
DTSTART;TZID=America/Denver:20230924T080000
DTEND;TZID=America/Denver:20230924T170000
DTSTAMP:20260422T165655
CREATED:20230813T201738Z
LAST-MODIFIED:20230813T201738Z
UID:10681-1695542400-1695574800@wuspba.org
SUMMARY:MacLeod Ale Brewing Co. Solo Piping Contest - sanctioned
DESCRIPTION:MacLeod Ale Brewing Co. Solo Piping Contest \n14741 Calvert Street \nVan Nuys\, CA 91411 \n\nWUSPBA Southern Branch
URL:https://wuspba.org/event/macleod-ale-brewing-co-solo-piping-contest-sanctioned/
END:VEVENT
BEGIN:VEVENT
DTSTART;TZID=America/Denver:20230923T080000
DTEND;TZID=America/Denver:20230924T170000
DTSTAMP:20260422T165655
CREATED:20230710T033416Z
LAST-MODIFIED:20230710T033416Z
UID:10593-1695456000-1695574800@wuspba.org
SUMMARY:Prescott Highland Games - sanctioned
DESCRIPTION:Prescott Highland Games \nWatson Lake \n3101 Watson Lake Rd.\, Prescott\, AZ 86301 \nPrescott Area Celtic Society \nhttps://Prescottareacelticsociety.com
URL:https://wuspba.org/event/prescott-highland-games-sanctioned/
END:VEVENT
BEGIN:VEVENT
DTSTART;TZID=America/Denver:20230908T080000
DTEND;TZID=America/Denver:20230910T170000
DTSTAMP:20260422T165655
CREATED:20230710T033529Z
LAST-MODIFIED:20230710T033529Z
UID:10595-1694160000-1694365200@wuspba.org
SUMMARY:Longs Peak Scottish/Irish Highland Festival - sanctioned
DESCRIPTION:Longs Peak Scottish/Irish Highland Festival \nEstes Park Fairgrounds \n1209 Manford Ave\, Estes Park\, CO 80517 \nwww.scotfest.com
URL:https://wuspba.org/event/longs-peak-scottish-irish-highland-festival-sanctioned/
END:VEVENT
BEGIN:VEVENT
DTSTART;TZID=America/Denver:20230901T080000
DTEND;TZID=America/Denver:20230903T170000
DTSTAMP:20260422T165655
CREATED:20221223T163947Z
LAST-MODIFIED:20230827T191132Z
UID:10361-1693555200-1693760400@wuspba.org
SUMMARY:Caledonian Club of San Francisco Scottish Games and Gathering - sanctioned
DESCRIPTION:Alameda County Fairgrounds\n4501 Pleasanton Ave\, Pleasanton\, California 94566\nCaledonian Club of San Francisco \nTO REGISTER CLICK HERE \nhttps://TheScottishGames.com \nNorthern branch \n\nPleasanton Band Schedule 2023 Final JMM\nPleasanton Drumming 08262023 Master Schedule\nPleasanton G1 08262023 Master Schedule\nPleasanton G2 08262023 Master Schedule\nPleasanton G3 08262023 Master Schedule\nPleasanton G4 08262023 Master Schedule\nPleasanton G5 08262023 Master Schedule\nPleasanton Open 08262023 Master Schedule
URL:https://wuspba.org/event/caledonian-club-of-san-francisco-scottish-games-and-gathering-sanctioned/
END:VEVENT
BEGIN:VEVENT
DTSTART;TZID=America/Denver:20230805T080000
DTEND;TZID=America/Denver:20230806T170000
DTSTAMP:20260422T165655
CREATED:20230614T042439Z
LAST-MODIFIED:20230614T042439Z
UID:10568-1691222400-1691341200@wuspba.org
SUMMARY:Colorado Scottish Festival - sanctioned
DESCRIPTION:August 5 and 6\, 2023 \nDenver Polo Club \n6359 Airport Road\, Sedalia\, CO  80135 \nColorado St Andrews Society
URL:https://wuspba.org/event/colorado-scottish-festival-sanctioned-2/
END:VEVENT
BEGIN:VEVENT
DTSTART;TZID=America/Denver:20230805T080000
DTEND;TZID=America/Denver:20230805T170000
DTSTAMP:20260422T165655
CREATED:20230518T011510Z
LAST-MODIFIED:20230518T011510Z
UID:10540-1691222400-1691254800@wuspba.org
SUMMARY:Mugs Away Saloon Solo Piping Contest - sanctioned
DESCRIPTION:Mugs Away Saloon Solo Piping Contest \nMugs Away Saloon \n27324 Camino Capistrano Ave. Ste. 101\, Laguna Niguel\, California \nFor Piping Information:\nKevin Campbell\nsoupmannnn@aol.com
URL:https://wuspba.org/event/mugs-away-saloon-solo-piping-contest-sanctioned/
END:VEVENT
BEGIN:VEVENT
DTSTART;TZID=America/Denver:20230715T080000
DTEND;TZID=America/Denver:20230716T170000
DTSTAMP:20260422T165655
CREATED:20230423T200930Z
LAST-MODIFIED:20230423T200930Z
UID:10527-1689408000-1689526800@wuspba.org
SUMMARY:Elizabeth Celtic Festival - sanctioned
DESCRIPTION:July 15 and 16\, 2023 \nElizabeth Celtic Festival \nCasey Jones Park \n34180 Road 17\, Elizabeth\, CO \nElizabeth Celtic Festival Association \nhttps://www.elizabethcelticfest.org/
URL:https://wuspba.org/event/elizabeth-celtic-festival-sanctioned/
END:VEVENT
BEGIN:VEVENT
DTSTART;TZID=America/Denver:20230715T080000
DTEND;TZID=America/Denver:20230716T170000
DTSTAMP:20260422T165655
CREATED:20230412T042034Z
LAST-MODIFIED:20230412T042034Z
UID:10462-1689408000-1689526800@wuspba.org
SUMMARY:Arizona Highland Celtic Festival - sanctioned
DESCRIPTION:Arizona Highland Celtic Festival \nFort Tuthill\, Flagstaff\, AZ 86002 \nNorthern Arizona Celtic Heritage Society \nDesert Branch
URL:https://wuspba.org/event/arizona-highland-celtic-festival-sanctioned/
END:VEVENT
BEGIN:VEVENT
DTSTART;TZID=America/Denver:20230715T080000
DTEND;TZID=America/Denver:20230715T170000
DTSTAMP:20260422T165655
CREATED:20230106T154317Z
LAST-MODIFIED:20230416T223733Z
UID:10387-1689408000-1689440400@wuspba.org
SUMMARY:Pipes and Pubs #4 - sanctioned
DESCRIPTION:Pipes and Pubs #4 Solano Brewing Company \n5500 Weber Rd\, Vacaville\, CA  95687 \nCity of Sacramento Pipe Band \nNorthern branch \n  \nRegistration \nhttps://www.r2sports.com/membership/home.asp?TID=40541
URL:https://wuspba.org/event/pipes-and-pubs-4-sanctioned/
END:VEVENT
BEGIN:VEVENT
DTSTART;TZID=America/Denver:20230707T080000
DTEND;TZID=America/Denver:20230708T170000
DTSTAMP:20260422T165655
CREATED:20230114T195830Z
LAST-MODIFIED:20230215T175337Z
UID:10404-1688716800-1688835600@wuspba.org
SUMMARY:Payson Scottish Festival & Highland Games - sanctioned          
DESCRIPTION:Payson City Park \n300 S Main Street\, Payson\, Utah \nGreat Basin branch \n  \nTo Register Click Here
URL:https://wuspba.org/event/payson-scottish-festival-highland-games-sanctioned-2/
END:VEVENT
BEGIN:VEVENT
DTSTART;TZID=America/Denver:20230624T080000
DTEND;TZID=America/Denver:20230625T170000
DTSTAMP:20260422T165655
CREATED:20230518T011010Z
LAST-MODIFIED:20230518T011010Z
UID:10538-1687593600-1687712400@wuspba.org
SUMMARY:San Diego Scottish Highland Games - sanctioned
DESCRIPTION:San Diego Scottish Highland Games \n6/24 to 6/25/2023 \nBrengle Terrace Park \n1200 Vale Terrace Drive\, Vista\, California 92084 \nUnited Scottish Society \nhttps://SDhighlandgames.org
URL:https://wuspba.org/event/san-diego-scottish-highland-games-sanctioned/
END:VEVENT
BEGIN:VEVENT
DTSTART;TZID=America/Denver:20230617T080000
DTEND;TZID=America/Denver:20230618T170000
DTSTAMP:20260422T165655
CREATED:20230526T032425Z
LAST-MODIFIED:20230526T032425Z
UID:10551-1686988800-1687107600@wuspba.org
SUMMARY:Pikes Peak Celtic Festival - sanctioned
DESCRIPTION:Pikes Peak Celtic Festival \n6/17/23 - 6/18/23 \nWestern Museum of Mining and Industry \n225 North Gate Blvd\, Colorado Springs\, CO  80921 \nPikes Peak Celtic Festival \nhttps://PikesPeakCelticFestival.com
URL:https://wuspba.org/event/pikes-peak-celtic-festival-sanctioned-2/
END:VEVENT
BEGIN:VEVENT
DTSTART;TZID=America/Denver:20230616T080000
DTEND;TZID=America/Denver:20230618T170000
DTSTAMP:20260422T165655
CREATED:20230106T153803Z
LAST-MODIFIED:20230212T152941Z
UID:10378-1686902400-1687107600@wuspba.org
SUMMARY:Utah Scottish Festival & Highland Games - sanctioned
DESCRIPTION:Utah Scottish Festival & Highland Games 2023 \nUtah State Fairpark \nJune 16-18\, 2023 \n155 South 1000 West\, Salt Lake City\, Utah \nClick Here to Register \nhttp://www.utahscots.org/
URL:https://wuspba.org/event/utah-scottish-festival-highland-games-sanctioned/
END:VEVENT
BEGIN:VEVENT
DTSTART;TZID=America/Denver:20230611T080000
DTEND;TZID=America/Denver:20230616T170000
DTSTAMP:20260422T165655
CREATED:20230412T053435Z
LAST-MODIFIED:20230412T053435Z
UID:10464-1686470400-1686934800@wuspba.org
SUMMARY:Lyon College Scottish Arts Summer School
DESCRIPTION:Scottish Arts Summer School | Lyon College | Batesville\, AR \n 
URL:https://wuspba.org/event/lyon-college-scottish-arts-summer-school/
END:VEVENT
BEGIN:VEVENT
DTSTART;TZID=America/Denver:20230610T080000
DTEND;TZID=America/Denver:20230610T170000
DTSTAMP:20260422T165655
CREATED:20230106T154002Z
LAST-MODIFIED:20230416T223641Z
UID:10381-1686384000-1686416400@wuspba.org
SUMMARY:Pipes and Pubs #3 - sanctioned
DESCRIPTION:9175  Union Park Way\, Elk Grove \, CA  95624 \nCity of Sacramento Pipe Band \nNorthern branch \n  \nRegistration \nhttps://www.r2sports.com/membership/home.asp?TID=40555
URL:https://wuspba.org/event/pipes-and-pubs-3-sanctioned-2/
END:VEVENT
BEGIN:VEVENT
DTSTART;TZID=America/Denver:20230526T080000
DTEND;TZID=America/Denver:20230529T170000
DTSTAMP:20260422T165655
CREATED:20230416T224012Z
LAST-MODIFIED:20230518T010841Z
UID:10469-1685088000-1685379600@wuspba.org
SUMMARY:Scottish Fest Costa Mesa - sanctioned
DESCRIPTION:5/26/2023 - 5/28/2023 \nScottish Fest Costa Mesa \nOrange County Fairgrounds \n88 Fair Drive\, Costa Mesa\, California 92626 \nhttps://Scottishfest.com \nSouthern Branch
URL:https://wuspba.org/event/scottish-fest-costa-mesa-sanctioned/
END:VEVENT
BEGIN:VEVENT
DTSTART;TZID=America/Denver:20230512T080000
DTEND;TZID=America/Denver:20230514T170000
DTSTAMP:20260422T165655
CREATED:20220811T030406Z
LAST-MODIFIED:20230211T222949Z
UID:9693-1683878400-1684083600@wuspba.org
SUMMARY:Grand Valley Highland Games - sanctioned
DESCRIPTION:Grand Valley Scottish Games & Celtic Festival \nMesa County Fairgrounds at Veterans Memorial Park \n2785 US Highway 50\, Grand Junction\, Colorado  81503 \n\nhttps://glenfinnanhighlanders.com/ \nIntermountain Branch
URL:https://wuspba.org/event/grand-valley-highland-games/
END:VEVENT
BEGIN:VEVENT
DTSTART;TZID=America/Denver:20230506T080000
DTEND;TZID=America/Denver:20230507T170000
DTSTAMP:20260422T165655
CREATED:20230228T032928Z
LAST-MODIFIED:20230228T032928Z
UID:10446-1683360000-1683478800@wuspba.org
SUMMARY:Rio Grande Valley Celtic Festival - sanctioned
DESCRIPTION:Rio Grande Valley Celtic Festival \nBalloon Fiesta Park \n5000 Balloon Fiesta Park NE\, Albuquerque\, NM 87113
URL:https://wuspba.org/event/rio-grande-valley-celtic-festival-sanctioned-2/
END:VEVENT
END:VCALENDAR