BEGIN:VCALENDAR
VERSION:2.0
PRODID:-//The Western United States Pipe Band Association - ECPv6.15.20//NONSGML v1.0//EN
CALSCALE:GREGORIAN
METHOD:PUBLISH
X-WR-CALNAME:The Western United States Pipe Band Association
X-ORIGINAL-URL:https://wuspba.org
X-WR-CALDESC:Events for The Western United States Pipe Band Association
REFRESH-INTERVAL;VALUE=DURATION:PT1H
X-Robots-Tag:noindex
X-PUBLISHED-TTL:PT1H
BEGIN:VTIMEZONE
TZID:America/Denver
BEGIN:DAYLIGHT
TZOFFSETFROM:-0700
TZOFFSETTO:-0600
TZNAME:MDT
DTSTART:20210314T090000
END:DAYLIGHT
BEGIN:STANDARD
TZOFFSETFROM:-0600
TZOFFSETTO:-0700
TZNAME:MST
DTSTART:20211107T080000
END:STANDARD
BEGIN:DAYLIGHT
TZOFFSETFROM:-0700
TZOFFSETTO:-0600
TZNAME:MDT
DTSTART:20220313T090000
END:DAYLIGHT
BEGIN:STANDARD
TZOFFSETFROM:-0600
TZOFFSETTO:-0700
TZNAME:MST
DTSTART:20221106T080000
END:STANDARD
BEGIN:DAYLIGHT
TZOFFSETFROM:-0700
TZOFFSETTO:-0600
TZNAME:MDT
DTSTART:20230312T090000
END:DAYLIGHT
BEGIN:STANDARD
TZOFFSETFROM:-0600
TZOFFSETTO:-0700
TZNAME:MST
DTSTART:20231105T080000
END:STANDARD
BEGIN:DAYLIGHT
TZOFFSETFROM:-0700
TZOFFSETTO:-0600
TZNAME:MDT
DTSTART:20240310T090000
END:DAYLIGHT
BEGIN:STANDARD
TZOFFSETFROM:-0600
TZOFFSETTO:-0700
TZNAME:MST
DTSTART:20241103T080000
END:STANDARD
END:VTIMEZONE
BEGIN:VEVENT
DTSTART;TZID=America/Denver:20230715T080000
DTEND;TZID=America/Denver:20230715T170000
DTSTAMP:20260421T183740
CREATED:20230106T154317Z
LAST-MODIFIED:20230416T223733Z
UID:10387-1689408000-1689440400@wuspba.org
SUMMARY:Pipes and Pubs #4 - sanctioned
DESCRIPTION:Pipes and Pubs #4 Solano Brewing Company \n5500 Weber Rd\, Vacaville\, CA  95687 \nCity of Sacramento Pipe Band \nNorthern branch \n  \nRegistration \nhttps://www.r2sports.com/membership/home.asp?TID=40541
URL:https://wuspba.org/event/pipes-and-pubs-4-sanctioned/
END:VEVENT
BEGIN:VEVENT
DTSTART;TZID=America/Denver:20230707T080000
DTEND;TZID=America/Denver:20230708T170000
DTSTAMP:20260421T183740
CREATED:20230114T195830Z
LAST-MODIFIED:20230215T175337Z
UID:10404-1688716800-1688835600@wuspba.org
SUMMARY:Payson Scottish Festival & Highland Games - sanctioned          
DESCRIPTION:Payson City Park \n300 S Main Street\, Payson\, Utah \nGreat Basin branch \n  \nTo Register Click Here
URL:https://wuspba.org/event/payson-scottish-festival-highland-games-sanctioned-2/
END:VEVENT
BEGIN:VEVENT
DTSTART;TZID=America/Denver:20230624T080000
DTEND;TZID=America/Denver:20230625T170000
DTSTAMP:20260421T183740
CREATED:20230518T011010Z
LAST-MODIFIED:20230518T011010Z
UID:10538-1687593600-1687712400@wuspba.org
SUMMARY:San Diego Scottish Highland Games - sanctioned
DESCRIPTION:San Diego Scottish Highland Games \n6/24 to 6/25/2023 \nBrengle Terrace Park \n1200 Vale Terrace Drive\, Vista\, California 92084 \nUnited Scottish Society \nhttps://SDhighlandgames.org
URL:https://wuspba.org/event/san-diego-scottish-highland-games-sanctioned/
END:VEVENT
BEGIN:VEVENT
DTSTART;TZID=America/Denver:20230617T080000
DTEND;TZID=America/Denver:20230618T170000
DTSTAMP:20260421T183740
CREATED:20230526T032425Z
LAST-MODIFIED:20230526T032425Z
UID:10551-1686988800-1687107600@wuspba.org
SUMMARY:Pikes Peak Celtic Festival - sanctioned
DESCRIPTION:Pikes Peak Celtic Festival \n6/17/23 - 6/18/23 \nWestern Museum of Mining and Industry \n225 North Gate Blvd\, Colorado Springs\, CO  80921 \nPikes Peak Celtic Festival \nhttps://PikesPeakCelticFestival.com
URL:https://wuspba.org/event/pikes-peak-celtic-festival-sanctioned-2/
END:VEVENT
BEGIN:VEVENT
DTSTART;TZID=America/Denver:20230616T080000
DTEND;TZID=America/Denver:20230618T170000
DTSTAMP:20260421T183740
CREATED:20230106T153803Z
LAST-MODIFIED:20230212T152941Z
UID:10378-1686902400-1687107600@wuspba.org
SUMMARY:Utah Scottish Festival & Highland Games - sanctioned
DESCRIPTION:Utah Scottish Festival & Highland Games 2023 \nUtah State Fairpark \nJune 16-18\, 2023 \n155 South 1000 West\, Salt Lake City\, Utah \nClick Here to Register \nhttp://www.utahscots.org/
URL:https://wuspba.org/event/utah-scottish-festival-highland-games-sanctioned/
END:VEVENT
BEGIN:VEVENT
DTSTART;TZID=America/Denver:20230611T080000
DTEND;TZID=America/Denver:20230616T170000
DTSTAMP:20260421T183740
CREATED:20230412T053435Z
LAST-MODIFIED:20230412T053435Z
UID:10464-1686470400-1686934800@wuspba.org
SUMMARY:Lyon College Scottish Arts Summer School
DESCRIPTION:Scottish Arts Summer School | Lyon College | Batesville\, AR \n 
URL:https://wuspba.org/event/lyon-college-scottish-arts-summer-school/
END:VEVENT
BEGIN:VEVENT
DTSTART;TZID=America/Denver:20230610T080000
DTEND;TZID=America/Denver:20230610T170000
DTSTAMP:20260421T183740
CREATED:20230106T154002Z
LAST-MODIFIED:20230416T223641Z
UID:10381-1686384000-1686416400@wuspba.org
SUMMARY:Pipes and Pubs #3 - sanctioned
DESCRIPTION:9175  Union Park Way\, Elk Grove \, CA  95624 \nCity of Sacramento Pipe Band \nNorthern branch \n  \nRegistration \nhttps://www.r2sports.com/membership/home.asp?TID=40555
URL:https://wuspba.org/event/pipes-and-pubs-3-sanctioned-2/
END:VEVENT
BEGIN:VEVENT
DTSTART;TZID=America/Denver:20230526T080000
DTEND;TZID=America/Denver:20230529T170000
DTSTAMP:20260421T183740
CREATED:20230416T224012Z
LAST-MODIFIED:20230518T010841Z
UID:10469-1685088000-1685379600@wuspba.org
SUMMARY:Scottish Fest Costa Mesa - sanctioned
DESCRIPTION:5/26/2023 - 5/28/2023 \nScottish Fest Costa Mesa \nOrange County Fairgrounds \n88 Fair Drive\, Costa Mesa\, California 92626 \nhttps://Scottishfest.com \nSouthern Branch
URL:https://wuspba.org/event/scottish-fest-costa-mesa-sanctioned/
END:VEVENT
BEGIN:VEVENT
DTSTART;TZID=America/Denver:20230512T080000
DTEND;TZID=America/Denver:20230514T170000
DTSTAMP:20260421T183740
CREATED:20220811T030406Z
LAST-MODIFIED:20230211T222949Z
UID:9693-1683878400-1684083600@wuspba.org
SUMMARY:Grand Valley Highland Games - sanctioned
DESCRIPTION:Grand Valley Scottish Games & Celtic Festival \nMesa County Fairgrounds at Veterans Memorial Park \n2785 US Highway 50\, Grand Junction\, Colorado  81503 \n\nhttps://glenfinnanhighlanders.com/ \nIntermountain Branch
URL:https://wuspba.org/event/grand-valley-highland-games/
END:VEVENT
BEGIN:VEVENT
DTSTART;TZID=America/Denver:20230506T080000
DTEND;TZID=America/Denver:20230507T170000
DTSTAMP:20260421T183740
CREATED:20230228T032928Z
LAST-MODIFIED:20230228T032928Z
UID:10446-1683360000-1683478800@wuspba.org
SUMMARY:Rio Grande Valley Celtic Festival - sanctioned
DESCRIPTION:Rio Grande Valley Celtic Festival \nBalloon Fiesta Park \n5000 Balloon Fiesta Park NE\, Albuquerque\, NM 87113
URL:https://wuspba.org/event/rio-grande-valley-celtic-festival-sanctioned-2/
END:VEVENT
BEGIN:VEVENT
DTSTART;TZID=America/Denver:20230506T080000
DTEND;TZID=America/Denver:20230506T170000
DTSTAMP:20260421T183740
CREATED:20230416T224251Z
LAST-MODIFIED:20230416T224251Z
UID:10471-1683360000-1683392400@wuspba.org
SUMMARY:YEC Spring Solo Contest & Workshop - sanctioned
DESCRIPTION:YEC Spring Solo Contest & Workshop \nGlendora High School \n1600 E. Foothill Boulevard\, Glendora\, CA 91741 \nYouth Education Council\, WUSPBA Southern Branch \nYEC Facebook
URL:https://wuspba.org/event/yec-spring-solo-contest-workshop-sanctioned/
END:VEVENT
BEGIN:VEVENT
DTSTART;TZID=America/Denver:20230429T080000
DTEND;TZID=America/Denver:20230429T170000
DTSTAMP:20260421T183740
CREATED:20230106T154235Z
LAST-MODIFIED:20230416T223527Z
UID:10385-1682755200-1682787600@wuspba.org
SUMMARY:Pipes and Pubs #2 - sanctioned
DESCRIPTION:Pipes and Pubs #2 Blue Note Brewing Company \n750 Dead  Cat Alley\, Woodland\, CA  95695 \nCity of Sacramento Pipe Band \nNorthern branch \n  \nRegistration \nhttps://www.r2sports.com/membership/home.asp?TID=40540
URL:https://wuspba.org/event/pipes-and-pubs-2-sanctioned-2/
END:VEVENT
BEGIN:VEVENT
DTSTART;TZID=America/Denver:20230415T080000
DTEND;TZID=America/Denver:20230416T170000
DTSTAMP:20260421T183740
CREATED:20230121T183819Z
LAST-MODIFIED:20230121T183819Z
UID:10418-1681545600-1681664400@wuspba.org
SUMMARY:Las Vegas Highland Games - sanctioned
DESCRIPTION:Las Vegas Highland Games \nCraig Ranch Regional Park \n628 W. Craig Road\, Las Vegas\, NV 89032 \n\nLas Vegas Celtic Society \nwww.lasvegascelticsociety.org \nDesert branch
URL:https://wuspba.org/event/las-vegas-highland-games-sanctioned-2/
END:VEVENT
BEGIN:VEVENT
DTSTART;TZID=America/Denver:20230325T080000
DTEND;TZID=America/Denver:20230325T170000
DTSTAMP:20260421T183740
CREATED:20230106T154152Z
LAST-MODIFIED:20230219T032911Z
UID:10383-1679731200-1679763600@wuspba.org
SUMMARY:Pipes and Pubs #1 - sanctioned
DESCRIPTION:Pipes and Pubs #1 IDOL Beerworks \n100 S.  Sacramento Street\, Lodi\, CA  95420 \nCity of Sacramento Pipe Band \nNorthern branch \nhttps://www.r2sports.com/tourney/home.asp?TID=40539
URL:https://wuspba.org/event/pipes-and-pubs-1-sanctioned-2/
END:VEVENT
BEGIN:VEVENT
DTSTART;TZID=America/Denver:20230304T080000
DTEND;TZID=America/Denver:20230305T170000
DTSTAMP:20260421T183740
CREATED:20221223T164115Z
LAST-MODIFIED:20221223T164227Z
UID:10364-1677916800-1678035600@wuspba.org
SUMMARY:Phoenix Scottish Games - sanctioned
DESCRIPTION:Gilbert Regional Park \n3005 E Queen Creek Rd\, Gilbert\, AZ 85298 \nCaledonian Society of AZ \nhttps://phoenixscottishgames.com/ \nDesert Branch
URL:https://wuspba.org/event/phoenix-scottish-games-sanctioned-2/
END:VEVENT
BEGIN:VEVENT
DTSTART;TZID=America/Denver:20230304T080000
DTEND;TZID=America/Denver:20230305T170000
DTSTAMP:20260421T183740
CREATED:20221223T163347Z
LAST-MODIFIED:20221223T163347Z
UID:10357-1677916800-1678035600@wuspba.org
SUMMARY:Redding Bagpipe Competition - sanctioned
DESCRIPTION:Red Lion Hotel   1830 Hilltop Dr\,  Redding\, CA 96002 \nSt. Florian Pipers Society \nhttps://Reddingbagpipecompetition.com \nNorthern Branch
URL:https://wuspba.org/event/redding-bagpipe-competition-sanctioned-2/
END:VEVENT
BEGIN:VEVENT
DTSTART;TZID=America/Denver:20230128T080000
DTEND;TZID=America/Denver:20230128T170000
DTSTAMP:20260421T183740
CREATED:20221223T163730Z
LAST-MODIFIED:20230114T195628Z
UID:10359-1674892800-1674925200@wuspba.org
SUMMARY:Youth Education Council Online Competition - sanctioned
DESCRIPTION:January 28\, 2023 (registration and video submission window closes) \nhttps://wuspbayec.ticketspice.com/preview/5c7d4dab55fe46e2970f192854da202f \n\nConnor Studulski & Malachi Johanson\nyec.wuspba@gmail.com\nyec.wuspba+comp2023@gmail.com       
URL:https://wuspba.org/event/youth-education-council-spring-online-competition-sanctioned/
END:VEVENT
BEGIN:VEVENT
DTSTART;TZID=America/Denver:20221015T080000
DTEND;TZID=America/Denver:20221015T170000
DTSTAMP:20260421T183740
CREATED:20220811T025924Z
LAST-MODIFIED:20220811T025924Z
UID:9691-1665820800-1665853200@wuspba.org
SUMMARY:Central Valley Highland Games and Celtic Festival - SANCTIONED
DESCRIPTION:Central Valley Highland Games and Celtic Festival \nStanislaus County Fairgrounds \n900 North Broadway\, Turlock\, CA 95380 \n\nSaint Andrew's Society of Modesto \nhttp://standrewsmodesto.org/Hgames.php \nhttp://standrewsmodesto.org/PDFs/2022%20Pipers%20Entry%20Form.pdf
URL:https://wuspba.org/event/central-valley-highland-games-and-celtic-festival-sanctioned/
END:VEVENT
BEGIN:VEVENT
DTSTART;TZID=America/Denver:20221014T080000
DTEND;TZID=America/Denver:20221016T170000
DTSTAMP:20260421T183740
CREATED:20220423T205804Z
LAST-MODIFIED:20220423T205804Z
UID:9493-1665734400-1665939600@wuspba.org
SUMMARY:Moab Celtic Festival - Scots on the Rocks (SANCTIONED)
DESCRIPTION:Moab Celtic Festival - Scots on the Rocks \nMoab Ball Park\, 250 East Main Street\, Moab\,Utah  84532 \nMoab Celtic Festival \nhttps://www.scotsontherocksmoab.org/
URL:https://wuspba.org/event/moab-celtic-festival-scots-on-the-rocks-2022/
END:VEVENT
BEGIN:VEVENT
DTSTART;TZID=America/Denver:20221008T080000
DTEND;TZID=America/Denver:20221009T170000
DTSTAMP:20260421T183740
CREATED:20220622T054308Z
LAST-MODIFIED:20220724T203530Z
UID:9618-1665216000-1665334800@wuspba.org
SUMMARY:Seaside Highland Games (SANCTIONED)
DESCRIPTION:Seaside Highland Games \nVentura County Fairgrounds \n10 West Harbor Blvd.\, Ventura\, California 93001 \nOctober 8-9\, 2022 \nSeaside Highland Games \nwww.seasidehighlandgames.org \n  \n 
URL:https://wuspba.org/event/seaside-highland-games-2022/
END:VEVENT
BEGIN:VEVENT
DTSTART;TZID=America/Denver:20220924T080000
DTEND;TZID=America/Denver:20220925T170000
DTSTAMP:20260421T183740
CREATED:20220615T133854Z
LAST-MODIFIED:20220615T133854Z
UID:9594-1664006400-1664125200@wuspba.org
SUMMARY:Prescott Highland Games (SANCTIONED)
DESCRIPTION:Prescott Highland Games \nWatson Lake \n3101 Watson Lake Rd \, Prescott\, Arizona 86301 \nSeptember 24-25\, 2022 \nPrescott Area Celtic Society \nPrescottareacelticsociety.com
URL:https://wuspba.org/event/prescott-highland-games/
END:VEVENT
BEGIN:VEVENT
DTSTART;TZID=America/Denver:20220924T000000
DTEND;TZID=America/Denver:20220924T235959
DTSTAMP:20260421T183740
CREATED:20220811T025659Z
LAST-MODIFIED:20220811T025659Z
UID:9689-1663977600-1664063999@wuspba.org
SUMMARY:NorCal Fall Online Solos - SANCTIONED
DESCRIPTION:NorCal Fall Online Solos \nhttps://wuspbanb.org/norcal-online-solos/ \n  \n 
URL:https://wuspba.org/event/norcal-fall-online-solos-sanctioned/
END:VEVENT
BEGIN:VEVENT
DTSTART;TZID=America/Denver:20220902T080000
DTEND;TZID=America/Denver:20220904T170000
DTSTAMP:20260421T183740
CREATED:20220505T041245Z
LAST-MODIFIED:20220828T210955Z
UID:9548-1662105600-1662310800@wuspba.org
SUMMARY:156th Annual Scottish Highland Gathering and Games\, Pleasanton (SANCTIONED)
DESCRIPTION:156th Annual Scottish Highland Gathering and Games \nAlameda County Fairgrounds\n4501 Pleasanton Ave\, Pleasanton\, California 94566 \nCaledonian Club of San Francisco \n  \nBands Schedule \n \n \nDrum Solo Schedule \n \n  \nBagpipe Solo Schedule \nOpen Class
URL:https://wuspba.org/event/pleasanton-2022/
END:VEVENT
BEGIN:VEVENT
DTSTART;TZID=America/Denver:20220806T080000
DTEND;TZID=America/Denver:20220807T170000
DTSTAMP:20260421T183740
CREATED:20220724T203337Z
LAST-MODIFIED:20220724T203337Z
UID:9678-1659772800-1659891600@wuspba.org
SUMMARY:Colorado Scottish Festival - SANCTIONED
DESCRIPTION:Colorado Scottish Festival \nCitizens Park\n5401 W 22nd Ave\, Edgewater\, CO 80214 \nAugust 6 & 7 \nscottishfames.org
URL:https://wuspba.org/event/colorado-scottish-festival-sanctioned/
END:VEVENT
BEGIN:VEVENT
DTSTART;TZID=America/Denver:20220716T080000
DTEND;TZID=America/Denver:20220717T170000
DTSTAMP:20260421T183740
CREATED:20220417T184548Z
LAST-MODIFIED:20220417T184548Z
UID:9463-1657958400-1658077200@wuspba.org
SUMMARY:Arizona Highland Celtic Festival (SANCTIONED)
DESCRIPTION:Arizona Highland Celtic Festival \nFort Tuthill \nP.O. Box 187\, Flagstaff\, AZ 86002 \nJuly 16-17\, 2022 \nNorthern Arizona Celtic Heritage Society \nhttp://www.nachs.info 
URL:https://wuspba.org/event/arizona-highland-celtic-festival-2022/
END:VEVENT
BEGIN:VEVENT
DTSTART;TZID=America/Denver:20220716T080000
DTEND;TZID=America/Denver:20220717T170000
DTSTAMP:20260421T183740
CREATED:20220317T031128Z
LAST-MODIFIED:20220317T031128Z
UID:9414-1657958400-1658077200@wuspba.org
SUMMARY:Elizabeth Celtic Festival (SANCTIONED)
DESCRIPTION:Elizabeth Celtic Festival \nCasey Jones Park \n34180 County Road 17\, Elizabeth\, CO \n7/16-17/2022 \nwww.ElizabethCelticFest.org
URL:https://wuspba.org/event/elizabeth-celtic-festival/
END:VEVENT
BEGIN:VEVENT
DTSTART;TZID=America/Denver:20220716T080000
DTEND;TZID=America/Denver:20220717T170000
DTSTAMP:20260421T183740
CREATED:20211222T184821Z
LAST-MODIFIED:20211222T184821Z
UID:9284-1657958400-1658077200@wuspba.org
SUMMARY:Monterey Scottish Games & Celtic Festival (SANCTIONED)
DESCRIPTION:Monterey Scottish Games & Celtic Festival\n\n004 Fairground Rd.\nMonterey\, CA  93940\n\nJuly 16-17 2022\n\nAlex Taylor\nMontereyGamesPipesDrums@gmail.com\n montereycelticfest.com
URL:https://wuspba.org/event/monterey-scottish-games-celtic-festival-sanctioned/
END:VEVENT
BEGIN:VEVENT
DTSTART;TZID=America/Denver:20220708T080000
DTEND;TZID=America/Denver:20220709T170000
DTSTAMP:20260421T183740
CREATED:20220128T030027Z
LAST-MODIFIED:20220511T000247Z
UID:9306-1657267200-1657386000@wuspba.org
SUMMARY:Payson Scottish Festival & Highland Games - SANCTIONED
DESCRIPTION:The Payson Scottish Festival 2022 Schedule (PDF)\n\nPayson Scottish Festival & Highland Games\nPayson City Park\n300 S Main Street\, Payson\, Utah \n\nClick Here To Register
URL:https://wuspba.org/event/payson-scottish-festival-highland-games-sanctioned/
END:VEVENT
BEGIN:VEVENT
DTSTART;TZID=America/Denver:20220625T080000
DTEND;TZID=America/Denver:20220626T170000
DTSTAMP:20260421T183740
CREATED:20220320T184843Z
LAST-MODIFIED:20220322T124734Z
UID:9430-1656144000-1656262800@wuspba.org
SUMMARY:San Diego Scottish Highland Games (SANCTIONED)
DESCRIPTION:Brengle Terrace Park\n1200 Vale Terrace Drive\nVista\, California 92084 \nSDhighlandgames.org
URL:https://wuspba.org/event/san-diego-scottish-games-2022/
END:VEVENT
BEGIN:VEVENT
DTSTART;TZID=America/Denver:20220625T080000
DTEND;TZID=America/Denver:20220625T170000
DTSTAMP:20260421T183740
CREATED:20220423T205507Z
LAST-MODIFIED:20220423T205507Z
UID:9491-1656144000-1656176400@wuspba.org
SUMMARY:Cortez Celtic Fair (SANCTIONED)
DESCRIPTION:Cortez Celtic Fair \nJune 25\, 2022 \nParque de Vida  425 Roger Smith Ave.\,  Cortez\, CO 81321 \nCortez Celtic Fair Association \nhttps://cortezcelticfair.com/
URL:https://wuspba.org/event/cortez-celtic-fair-2022/
END:VEVENT
END:VCALENDAR