BEGIN:VCALENDAR
VERSION:2.0
PRODID:-//The Western United States Pipe Band Association - ECPv6.15.20//NONSGML v1.0//EN
CALSCALE:GREGORIAN
METHOD:PUBLISH
X-WR-CALNAME:The Western United States Pipe Band Association
X-ORIGINAL-URL:https://wuspba.org
X-WR-CALDESC:Events for The Western United States Pipe Band Association
REFRESH-INTERVAL;VALUE=DURATION:PT1H
X-Robots-Tag:noindex
X-PUBLISHED-TTL:PT1H
BEGIN:VTIMEZONE
TZID:America/Denver
BEGIN:DAYLIGHT
TZOFFSETFROM:-0700
TZOFFSETTO:-0600
TZNAME:MDT
DTSTART:20240310T090000
END:DAYLIGHT
BEGIN:STANDARD
TZOFFSETFROM:-0600
TZOFFSETTO:-0700
TZNAME:MST
DTSTART:20241103T080000
END:STANDARD
BEGIN:DAYLIGHT
TZOFFSETFROM:-0700
TZOFFSETTO:-0600
TZNAME:MDT
DTSTART:20250309T090000
END:DAYLIGHT
BEGIN:STANDARD
TZOFFSETFROM:-0600
TZOFFSETTO:-0700
TZNAME:MST
DTSTART:20251102T080000
END:STANDARD
BEGIN:DAYLIGHT
TZOFFSETFROM:-0700
TZOFFSETTO:-0600
TZNAME:MDT
DTSTART:20260308T090000
END:DAYLIGHT
BEGIN:STANDARD
TZOFFSETFROM:-0600
TZOFFSETTO:-0700
TZNAME:MST
DTSTART:20261101T080000
END:STANDARD
END:VTIMEZONE
BEGIN:VEVENT
DTSTART;TZID=America/Denver:20250412T080000
DTEND;TZID=America/Denver:20250412T170000
DTSTAMP:20260421T192344
CREATED:20241208T134518Z
LAST-MODIFIED:20250327T221221Z
UID:12141-1744444800-1744477200@wuspba.org
SUMMARY:2025 Intermountain Indoor Competition
DESCRIPTION:April 12\, 2025 \nIntermountain Branch Indoor Solo Competition\nPikes Peak Brewing Company\n1756 Lake Woodmoor Dr\, Monument\, CO 80132\nIntermountain Branch\, WUSPBA \nhttps://www.r2sports.com/membership/matchSearch.asp?TID=48624 \nDrew McPheeters\ndbmcpheeters@gmail.com
URL:https://wuspba.org/event/2025-intermountain-indoor-competition-not-yet-sanctioned/
END:VEVENT
BEGIN:VEVENT
DTSTART;TZID=America/Denver:20250412T080000
DTEND;TZID=America/Denver:20250413T170000
DTSTAMP:20260421T192344
CREATED:20241208T134441Z
LAST-MODIFIED:20250327T221257Z
UID:12139-1744444800-1744563600@wuspba.org
SUMMARY:2025 Las Vegas Highland Games
DESCRIPTION:April 12-13\, 2025\nLas Vegas Highland Games\nCraig Ranch Regional Park\n625 W Craig Road\, North Las Vegas\, NV 89032\nLas Vegas Celtic Society\nwww.lasvegascelticsociety.org \nhttps://www.r2sports.com/membership/home.asp?TID=47730 \nJames Buggie\npiping@lasvegascelticsociety.org\n(702) 521-1359
URL:https://wuspba.org/event/2025-las-vegas-highland-games-not-yet-sanctioned/
END:VEVENT
BEGIN:VEVENT
DTSTART;TZID=America/Denver:20250426T080000
DTEND;TZID=America/Denver:20250426T170000
DTSTAMP:20260421T192344
CREATED:20241208T133950Z
LAST-MODIFIED:20250327T221428Z
UID:12125-1745654400-1745686800@wuspba.org
SUMMARY:2025 Pipes and Pubs #2 Blue Note
DESCRIPTION:4/26-27/2025\nPipes and Pubs #2\nBlue Note Brewing Company NorCal Celtic Festival\n750 Dead Cat Alley\, Woodland\, CA 95695\nSponsor: City of Sacramento Pipe Band\nhttps://www.r2sports.com/tourney/home.asp?TID=46821 \nLiz Tubbs\nlizcspb@aol.com\n916-812-4277
URL:https://wuspba.org/event/2025-pipes-and-pubs-2-blue-note-not-yet-sanctioned/
END:VEVENT
END:VCALENDAR