BEGIN:VCALENDAR
VERSION:2.0
PRODID:-//The Western United States Pipe Band Association - ECPv6.15.20//NONSGML v1.0//EN
CALSCALE:GREGORIAN
METHOD:PUBLISH
X-ORIGINAL-URL:https://wuspba.org
X-WR-CALDESC:Events for The Western United States Pipe Band Association
REFRESH-INTERVAL;VALUE=DURATION:PT1H
X-Robots-Tag:noindex
X-PUBLISHED-TTL:PT1H
BEGIN:VTIMEZONE
TZID:America/Denver
BEGIN:DAYLIGHT
TZOFFSETFROM:-0700
TZOFFSETTO:-0600
TZNAME:MDT
DTSTART:20240310T090000
END:DAYLIGHT
BEGIN:STANDARD
TZOFFSETFROM:-0600
TZOFFSETTO:-0700
TZNAME:MST
DTSTART:20241103T080000
END:STANDARD
BEGIN:DAYLIGHT
TZOFFSETFROM:-0700
TZOFFSETTO:-0600
TZNAME:MDT
DTSTART:20250309T090000
END:DAYLIGHT
BEGIN:STANDARD
TZOFFSETFROM:-0600
TZOFFSETTO:-0700
TZNAME:MST
DTSTART:20251102T080000
END:STANDARD
BEGIN:DAYLIGHT
TZOFFSETFROM:-0700
TZOFFSETTO:-0600
TZNAME:MDT
DTSTART:20260308T090000
END:DAYLIGHT
BEGIN:STANDARD
TZOFFSETFROM:-0600
TZOFFSETTO:-0700
TZNAME:MST
DTSTART:20261101T080000
END:STANDARD
END:VTIMEZONE
BEGIN:VEVENT
DTSTART;TZID=America/Denver:20250503T080000
DTEND;TZID=America/Denver:20250504T170000
DTSTAMP:20260421T175828
CREATED:20241208T134029Z
LAST-MODIFIED:20250327T221520Z
UID:12127-1746259200-1746378000@wuspba.org
SUMMARY:2025 Rio Grande Valley Celtic Festival
DESCRIPTION:Rio Grande Valley Celtic Festival - sanctioned\nMay 3rd and 4th\, 2025\nBalloon Fiesta Park\n5000 Balloon Fiesta Parkway NE\, Albuquerque\, New Mexico 87113\nRio Grande Valley Celtic Festival Association \nhttps://www.r2sports.com/tourney/home.asp?TID=47209 \nKayla Russo\npipesanddrums@celtfestabq.com\n505-259-4691
URL:https://wuspba.org/event/2025-rio-grande-valley-celtic-festival-not-yet-sanctioned/
END:VEVENT
BEGIN:VEVENT
DTSTART;VALUE=DATE:20250504
DTEND;VALUE=DATE:20250505
DTSTAMP:20260421T175828
CREATED:20250327T015821Z
LAST-MODIFIED:20250327T221755Z
UID:12398-1746316800-1746403199@wuspba.org
SUMMARY:Spring Jedi Solo Contest & Workshop
DESCRIPTION:May 4\, 2025 \nSpring Jedi Solo Contest & Workshop\nGlendora High School\n1600 East Foothill Blvd\, Glendora\, CA 91741\nSponsor: WUSPBA Southern Branch \nhttps://www.r2sports.com/tourney/home.asp?TID=48675 \nJennifer DeBarr\njdebarr4@gmail.com
URL:https://wuspba.org/event/spring-jedi-solo-contest-workshop/
END:VEVENT
BEGIN:VEVENT
DTSTART;TZID=America/Denver:20250517T080000
DTEND;TZID=America/Denver:20250517T170000
DTSTAMP:20260421T175828
CREATED:20250306T180346Z
LAST-MODIFIED:20250516T031955Z
UID:12353-1747468800-1747501200@wuspba.org
SUMMARY:Bountiful Spring Highland Festival in the Park
DESCRIPTION:May 17\, 2025\nBountiful Spring Highland Festival in the Park\nBountiful City Park\n400 North 200 West\, Bountiful\, Utah 84010\nWUSPBA Great Basin Branch \nhttps://www.r2sports.com/tourney.asp?TID=48349 \nSaturday Solo Schedule  \nSaturday Band Order of Play \nJeffrey M Mann\nMannjeff@outlook.com
URL:https://wuspba.org/event/bountiful-spring-highland-festival-in-the-park/
END:VEVENT
BEGIN:VEVENT
DTSTART;TZID=America/Denver:20250518T080000
DTEND;TZID=America/Denver:20250518T170000
DTSTAMP:20260421T175828
CREATED:20250306T180836Z
LAST-MODIFIED:20250327T221923Z
UID:12355-1747555200-1747587600@wuspba.org
SUMMARY:MacLeod Ale Solo Competition
DESCRIPTION:May 18\, 2025\nMacLeod Ale Solo Competition\nMacLeod Ale Brewing Co.\n14741 Calvert St.\, Van Nuys\, CA 91411\nWUSPBA Southern Branch\nhttps://www.r2sports.com/tourney/home.asp?TID=48350 \nWilliam Walker\nwwalker@sacrowalker.com
URL:https://wuspba.org/event/macleod-ale-solo-competition/
END:VEVENT
BEGIN:VEVENT
DTSTART;TZID=America/Denver:20250523T080000
DTEND;TZID=America/Denver:20250525T170000
DTSTAMP:20260421T175828
CREATED:20250508T011827Z
LAST-MODIFIED:20250508T011827Z
UID:12521-1747987200-1748192400@wuspba.org
SUMMARY:2025 USS Costa Mesa Games
DESCRIPTION:May 23\,24 & 25th\nUSS Costa Mesa Games\nCosta Mesa Fairgrounds\n88 Fair Dr\nCosta Mesa\, Ca 92626 \nUnited Scottish Society\nScott MacDonald\nsmacdonald@smdsalesinc.com
URL:https://wuspba.org/event/2025-uss-costa-mesa-games/
END:VEVENT
END:VCALENDAR