BEGIN:VCALENDAR
VERSION:2.0
PRODID:-//The Western United States Pipe Band Association - ECPv6.15.20//NONSGML v1.0//EN
CALSCALE:GREGORIAN
METHOD:PUBLISH
X-ORIGINAL-URL:https://wuspba.org
X-WR-CALDESC:Events for The Western United States Pipe Band Association
REFRESH-INTERVAL;VALUE=DURATION:PT1H
X-Robots-Tag:noindex
X-PUBLISHED-TTL:PT1H
BEGIN:VTIMEZONE
TZID:America/Denver
BEGIN:DAYLIGHT
TZOFFSETFROM:-0700
TZOFFSETTO:-0600
TZNAME:MDT
DTSTART:20240310T090000
END:DAYLIGHT
BEGIN:STANDARD
TZOFFSETFROM:-0600
TZOFFSETTO:-0700
TZNAME:MST
DTSTART:20241103T080000
END:STANDARD
BEGIN:DAYLIGHT
TZOFFSETFROM:-0700
TZOFFSETTO:-0600
TZNAME:MDT
DTSTART:20250309T090000
END:DAYLIGHT
BEGIN:STANDARD
TZOFFSETFROM:-0600
TZOFFSETTO:-0700
TZNAME:MST
DTSTART:20251102T080000
END:STANDARD
BEGIN:DAYLIGHT
TZOFFSETFROM:-0700
TZOFFSETTO:-0600
TZNAME:MDT
DTSTART:20260308T090000
END:DAYLIGHT
BEGIN:STANDARD
TZOFFSETFROM:-0600
TZOFFSETTO:-0700
TZNAME:MST
DTSTART:20261101T080000
END:STANDARD
END:VTIMEZONE
BEGIN:VEVENT
DTSTART;VALUE=DATE:20251011
DTEND;VALUE=DATE:20251012
DTSTAMP:20260421T105857
CREATED:20250728T033019Z
LAST-MODIFIED:20250728T033150Z
UID:12625-1760140800-1760227199@wuspba.org
SUMMARY:Angus MacDonald Piping Invitational (Sanctioned)
DESCRIPTION:October 11\, 2025\nAngus MacDonald Piping Invitational\nVentura County Fairgrounds\n10 W. Harbor Blvd.\, Ventura\, CA 93001\nSeaside Highland Games\nwww.seasidehighlandgames.org \nSeumus Coyne\nseumascoyne@gmail.com\n909-267-0847
URL:https://wuspba.org/event/angus-macdonald-piping-invitational-sanctioned/
END:VEVENT
BEGIN:VEVENT
DTSTART;TZID=America/Denver:20251011T080000
DTEND;TZID=America/Denver:20251012T170000
DTSTAMP:20260421T105857
CREATED:20241208T134616Z
LAST-MODIFIED:20250728T032833Z
UID:12145-1760169600-1760288400@wuspba.org
SUMMARY:2025 Seaside Ventura Games (Sanctioned)
DESCRIPTION:October 11th and 12th\, 2025\nSeaside Highland Games\nVentura County Fairgrounds\n10 W. Harbor Blvd.\, Ventura\, CA 93001\nSeaside Highland Games \nwww.seasidehighlandgames.org \nDavid Dailey\ndmdailey@prodigy.net \nhttps://www.r2sports.com/tourney/home.asp?TID=50150
URL:https://wuspba.org/event/2025-seaside-ventura-games-not-yet-sanctioned/
END:VEVENT
BEGIN:VEVENT
DTSTART;TZID=America/Denver:20251017T080000
DTEND;TZID=America/Denver:20251019T170000
DTSTAMP:20260421T105857
CREATED:20250728T031430Z
LAST-MODIFIED:20250728T031643Z
UID:12618-1760688000-1760893200@wuspba.org
SUMMARY:2025 Moab Celtic Festival (sanctioned)
DESCRIPTION:Oct 17-19\, 2025\nMoab Celtic Festival\nCenter Street Ballpark\n198 E Center Street\, Moab\, Utah 84532\nScots on the Rocks Moab \ncotsontherocksmoab.org \nhttps://www.r2sports.com/tourney/home.asp?TID=50250 \nAndrew Draper \nandyldraper@gmail.com \nandyldraper@gmail.com
URL:https://wuspba.org/event/2025-moab-celtic-festival-sanctioned/
END:VEVENT
BEGIN:VEVENT
DTSTART;TZID=America/Denver:20251031T080000
DTEND;TZID=America/Denver:20251101T170000
DTSTAMP:20260421T105857
CREATED:20250107T031208Z
LAST-MODIFIED:20250128T023301Z
UID:12233-1761897600-1762016400@wuspba.org
SUMMARY:2025 Western States Champion Solo Invitational
DESCRIPTION:October 31-November 1\, 2025\nWestern States Champion Solo Invitational\nSouthern California (location pending)\nwuspba.org \nJeffrey M Mann\nmannjeff@outlook.com\n(801) 554-8989
URL:https://wuspba.org/event/2025-western-states-champion-solo-invitational-sanctioning-pending/
END:VEVENT
END:VCALENDAR