BEGIN:VCALENDAR
VERSION:2.0
PRODID:-//The Western United States Pipe Band Association - ECPv6.15.20//NONSGML v1.0//EN
CALSCALE:GREGORIAN
METHOD:PUBLISH
X-ORIGINAL-URL:https://wuspba.org
X-WR-CALDESC:Events for The Western United States Pipe Band Association
REFRESH-INTERVAL;VALUE=DURATION:PT1H
X-Robots-Tag:noindex
X-PUBLISHED-TTL:PT1H
BEGIN:VTIMEZONE
TZID:America/Denver
BEGIN:DAYLIGHT
TZOFFSETFROM:-0700
TZOFFSETTO:-0600
TZNAME:MDT
DTSTART:20250309T090000
END:DAYLIGHT
BEGIN:STANDARD
TZOFFSETFROM:-0600
TZOFFSETTO:-0700
TZNAME:MST
DTSTART:20251102T080000
END:STANDARD
BEGIN:DAYLIGHT
TZOFFSETFROM:-0700
TZOFFSETTO:-0600
TZNAME:MDT
DTSTART:20260308T090000
END:DAYLIGHT
BEGIN:STANDARD
TZOFFSETFROM:-0600
TZOFFSETTO:-0700
TZNAME:MST
DTSTART:20261101T080000
END:STANDARD
BEGIN:DAYLIGHT
TZOFFSETFROM:-0700
TZOFFSETTO:-0600
TZNAME:MDT
DTSTART:20270314T090000
END:DAYLIGHT
BEGIN:STANDARD
TZOFFSETFROM:-0600
TZOFFSETTO:-0700
TZNAME:MST
DTSTART:20271107T080000
END:STANDARD
END:VTIMEZONE
BEGIN:VEVENT
DTSTART;TZID=America/Denver:20260301T080000
DTEND;TZID=America/Denver:20260301T170000
DTSTAMP:20260421T034616
CREATED:20260123T131042Z
LAST-MODIFIED:20260123T131042Z
UID:12991-1772352000-1772384400@wuspba.org
SUMMARY:PipeFestAZ - Sanctioned
DESCRIPTION:PipeFestAZ\nIrish Cultural Center\n1106 N Central Ave\, Phoenix\, AZ 85004 \nWUSPBA Desert Branch\nTeresa Barnard\ntreesa.danielle@gmail.com \nhttps://www.r2sports.com/tourney/home.asp?TID=52652
URL:https://wuspba.org/event/pipefestaz-sanctioned/
END:VEVENT
BEGIN:VEVENT
DTSTART;TZID=America/Denver:20260307T080000
DTEND;TZID=America/Denver:20260308T170000
DTSTAMP:20260421T034616
CREATED:20251119T155041Z
LAST-MODIFIED:20260102T171520Z
UID:12902-1772870400-1772989200@wuspba.org
SUMMARY:2026 Redding Bagpipe Competition (Sanctioned)
DESCRIPTION:Redding Bagpipe Competition - Sanctioned\nRed Lion Hotel Redding\n1830 Hilltop Drive\, Redding\, CA 96002 \nhttps://www.reddingbagpipecompetition.com/ \nMonty Messenger\nMonty@thesfps.com \nhttps://www.r2sports.com/tourney/home.asp?TID=51724
URL:https://wuspba.org/event/2026-redding-bagpipe-competition-not-yet-sanctioned/
END:VEVENT
BEGIN:VEVENT
DTSTART;VALUE=DATE:20260321
DTEND;VALUE=DATE:20260322
DTSTAMP:20260421T034616
CREATED:20251119T154859Z
LAST-MODIFIED:20251119T154859Z
UID:12900-1774051200-1774137599@wuspba.org
SUMMARY:2026 Pipes and Pubs  #1 - Sanctioned
DESCRIPTION:March 21\, 2026\nPipes and Pubs #1 - Sanctioned\nIdol Beer Works\n100 South Sacramento Street\, Lodi\, California 95240\nLiz Tubbs\n916-812-4277 \nhttps://www.r2sports.com/tourney/home.asp?TID=51724
URL:https://wuspba.org/event/2026-pipes-and-pubs-1-sanctioned/
END:VEVENT
BEGIN:VEVENT
DTSTART;VALUE=DATE:20260321
DTEND;VALUE=DATE:20260322
DTSTAMP:20260421T034616
CREATED:20260311T124105Z
LAST-MODIFIED:20260311T124351Z
UID:13055-1774051200-1774137599@wuspba.org
SUMMARY:Pipes in the Park
DESCRIPTION:Pipes in the Park 3/21\nLocation - Griffith Park\, near Shane's Inspiration in Los Angeles\nsponsored by City of Angels Pipe Band and WUSPBA Southern Branch.\nCome for the sanctioned solos in the morning\, bring a picnic lunch and stay for the unsanctioned bands in the afternoon.\nContact April White\nsolo.registrar@wuspba.org for more information\, \nand sign up at https://www.r2sports.com/tourney/EntryList.asp?TID=52857&display=YES
URL:https://wuspba.org/event/pipes-in-the-park/
END:VEVENT
BEGIN:VEVENT
DTSTART;VALUE=DATE:20260330
DTEND;VALUE=DATE:20260331
DTSTAMP:20260421T034616
CREATED:20251124T150852Z
LAST-MODIFIED:20260104T172742Z
UID:12933-1774828800-1774915199@wuspba.org
SUMMARY:2026  YEC Online Solo Competition - Western States Qualifier Sanctioned
DESCRIPTION:March 30\, 2026\nYEC Online Solo Competition - sanctioned \nhttps://linktr.ee/WUSPBA.YEC \nApril White\nApril.white@wuspba.org \nhttps://www.r2sports.com/tourney/home.asp?TID=52234
URL:https://wuspba.org/event/2026-yec-online-solo-competition-western-states-qualifier-not-yet-sanctioned/
END:VEVENT
END:VCALENDAR