BEGIN:VCALENDAR
VERSION:2.0
PRODID:-//The Western United States Pipe Band Association - ECPv6.15.20//NONSGML v1.0//EN
CALSCALE:GREGORIAN
METHOD:PUBLISH
X-WR-CALNAME:The Western United States Pipe Band Association
X-ORIGINAL-URL:https://wuspba.org
X-WR-CALDESC:Events for The Western United States Pipe Band Association
REFRESH-INTERVAL;VALUE=DURATION:PT1H
X-Robots-Tag:noindex
X-PUBLISHED-TTL:PT1H
BEGIN:VTIMEZONE
TZID:America/Denver
BEGIN:DAYLIGHT
TZOFFSETFROM:-0700
TZOFFSETTO:-0600
TZNAME:MDT
DTSTART:20250309T090000
END:DAYLIGHT
BEGIN:STANDARD
TZOFFSETFROM:-0600
TZOFFSETTO:-0700
TZNAME:MST
DTSTART:20251102T080000
END:STANDARD
BEGIN:DAYLIGHT
TZOFFSETFROM:-0700
TZOFFSETTO:-0600
TZNAME:MDT
DTSTART:20260308T090000
END:DAYLIGHT
BEGIN:STANDARD
TZOFFSETFROM:-0600
TZOFFSETTO:-0700
TZNAME:MST
DTSTART:20261101T080000
END:STANDARD
BEGIN:DAYLIGHT
TZOFFSETFROM:-0700
TZOFFSETTO:-0600
TZNAME:MDT
DTSTART:20270314T090000
END:DAYLIGHT
BEGIN:STANDARD
TZOFFSETFROM:-0600
TZOFFSETTO:-0700
TZNAME:MST
DTSTART:20271107T080000
END:STANDARD
END:VTIMEZONE
BEGIN:VEVENT
DTSTART;TZID=America/Denver:20260502T080000
DTEND;TZID=America/Denver:20260502T170000
DTSTAMP:20260421T035605
CREATED:20260113T010338Z
LAST-MODIFIED:20260113T010338Z
UID:12978-1777708800-1777741200@wuspba.org
SUMMARY:Pipes & Pours #1: The Highland Valley Vineyard Scottish Classic - Sanctioned
DESCRIPTION:Pipes & Pours #1: The Highland Valley Vineyard Scottish Classic - Sanctioned \nDomaine Artefact Vineyard & Winery\n15404 Highland Valley Road\, Escondido\, CA 92025\nWUSPBA (Southern Branch) with the Cameron Highlanders Pipe Band of San Diego County \nIan Stuart Kelly\nianstuartkelly.phd@gmail.com \nhttps://www.r2sports.com/tourney/home.asp?TID=52436
URL:https://wuspba.org/event/pipes-pours-1-the-highland-valley-vineyard-scottish-classic-sanctioned/
END:VEVENT
BEGIN:VEVENT
DTSTART;TZID=America/Denver:20260502T080000
DTEND;TZID=America/Denver:20260503T170000
DTSTAMP:20260421T035605
CREATED:20251119T155323Z
LAST-MODIFIED:20260117T194348Z
UID:12906-1777708800-1777827600@wuspba.org
SUMMARY:2026 Rio Grande Valley Celtic Festival Sanctioned
DESCRIPTION:Rio Grande Valley Celtic Festival - Sanctioned\nBalloon Fiesta Park\n5000 Balloon Fiesta Park NE\, Albuquerque\, NM 87113 \nRio Grand Valley Celtic Festival Association\nhttps://www.celtfestabq.com/ \nKayla Russo\npipesanddrums@celtfestabq.com \nhttps://www.r2sports.com/tourney/home.asp?TID=52497
URL:https://wuspba.org/event/2026-rio-grande-valley-celtic-festival-not-yet-sanctioned/
END:VEVENT
BEGIN:VEVENT
DTSTART;TZID=America/Denver:20260503T080000
DTEND;TZID=America/Denver:20260503T170000
DTSTAMP:20260421T035605
CREATED:20260408T120125Z
LAST-MODIFIED:20260408T120125Z
UID:13076-1777795200-1777827600@wuspba.org
SUMMARY:Glendora Spring Solo Contest - Sanctioned
DESCRIPTION:Glendora Spring Solo Contest - Sanctioned\nGlendora High School\n1600 East Foothill Blvd\, Glendora\, CA 91741 \nJennifer Debarr\njdebarr4@gmail.com \nkjmac@pacbell.net \nhttps://www.r2sports.com/tourney/home.asp?TID=53937
URL:https://wuspba.org/event/glendora-spring-solo-contest-sanctioned/
END:VEVENT
BEGIN:VEVENT
DTSTART;TZID=America/Denver:20260516T080000
DTEND;TZID=America/Denver:20260516T170000
DTSTAMP:20260421T035605
CREATED:20260217T213349Z
LAST-MODIFIED:20260217T213630Z
UID:13002-1778918400-1778950800@wuspba.org
SUMMARY:Piping in the Park  (UT) - Sanctioned
DESCRIPTION:Piping in the Park - Sanctioned\nLayton City Park\n437 North Wasatch Drive\, Layton\, Utah 84041\nGreat Basin Branch \nMatt Jamieson\nmatt.jamieson@wsuspba.org \nhttps://www.r2sports.com/tourney/home.asp?TID=53072
URL:https://wuspba.org/event/piping-in-the-park-sanctioned-2/
END:VEVENT
BEGIN:VEVENT
DTSTART;TZID=America/Denver:20260522T080000
DTEND;TZID=America/Denver:20260524T170000
DTSTAMP:20260421T035605
CREATED:20251119T155651Z
LAST-MODIFIED:20251119T155725Z
UID:12908-1779436800-1779642000@wuspba.org
SUMMARY:2026 USS Costa Mesa Games (Not Yet Sanctioned)
DESCRIPTION:Costa Mesa\, CA
URL:https://wuspba.org/event/2026-uss-costa-mesa-games-not-yet-sanctioned/
END:VEVENT
BEGIN:VEVENT
DTSTART;TZID=America/Denver:20260530T080000
DTEND;TZID=America/Denver:20260530T170000
DTSTAMP:20260421T035605
CREATED:20260413T122632Z
LAST-MODIFIED:20260413T122632Z
UID:13078-1780128000-1780160400@wuspba.org
SUMMARY:Intermountain Indoor Band Bash - Sanctioned
DESCRIPTION:May 30\, 2026\nIntermountain Indoor Band Bash - Sanctioned\nNorth Colorado Springs Readiness Center\n9510 Voyager Pkwy\, Colorado Springs\, CO 80920\nIntermountain Branch \nAndra Stoller\nAndra.stoller@gmail.com \nhttps://www.r2sports.com/tourney/home.asp?TID=54087
URL:https://wuspba.org/event/intermountain-indoor-band-bash-sanctioned/
END:VEVENT
END:VCALENDAR